BEGIN:VCALENDAR
VERSION:2.0
PRODID:-//wp-events-plugin.com//6.6.4.4//EN
TZID:America/Kentucky/Louisville
X-WR-TIMEZONE:America/Kentucky/Louisville
BEGIN:VEVENT
UID:627@kyhumane.mediauradev.com
DTSTART;TZID=America/Kentucky/Louisville:20260207T121500
DTEND;TZID=America/Kentucky/Louisville:20260228T131500
DTSTAMP:20251229T155508Z
URL:https://kyhumane.mediauradev.com/events/look-at-me-dogs-4-months-and-o
 lder-38/
SUMMARY:Attention\, please!\, dogs 4 months and older
DESCRIPTION:4 weeks \nSaturdays\, 12:15 pm - 1:15 pm\n\nInstructor: Jordan\
 n$120 +tax\n\nAttention is the foundation of all good training. In this cl
 ass\, we’ll teach you how to become more interesting than the environmen
 t—and how to help your dog succeed when life gets distracting. 
ATTACH;FMTTYPE=image/jpeg:https://kyhumane.mediauradev.com/wp-content/uplo
 ads/2023/10/52787056992_5c9d7ca6c4_o-scaled-e1702922418214.jpg
CATEGORIES:Behavior Training
LOCATION:Kentucky Humane Society East Campus\, 1000 Lyndon Lane\, Louisvill
 e\, KY \, 40222\, United States
X-APPLE-STRUCTURED-LOCATION;VALUE=URI;X-ADDRESS=1000 Lyndon Lane\, Louisvil
 le\, KY \, 40222\, United States;X-APPLE-RADIUS=100;X-TITLE=Kentucky Human
 e Society East Campus:geo:0,0
END:VEVENT
BEGIN:VTIMEZONE
TZID:America/Kentucky/Louisville
X-LIC-LOCATION:America/Kentucky/Louisville
BEGIN:STANDARD
DTSTART:20251102T010000
TZOFFSETFROM:-0400
TZOFFSETTO:-0500
TZNAME:EST
END:STANDARD
END:VTIMEZONE
END:VCALENDAR