BEGIN:VCALENDAR
VERSION:2.0
PRODID:-//wp-events-plugin.com//6.6.4.4//EN
TZID:America/Kentucky/Louisville
X-WR-TIMEZONE:America/Kentucky/Louisville
BEGIN:VEVENT
UID:23@kyhumane.mediauradev.com
DTSTART;VALUE=DATE:20210731
DTEND;VALUE=DATE:20210801
DTSTAMP:20210623T180805Z
URL:https://kyhumane.mediauradev.com/events/lou-2-lex-ultra/
SUMMARY:Lou 2 Lex Ultra
DESCRIPTION:100 Miles. 2 Months. Do you have what it takes to run Louisvill
 e to Lexington?
ATTACH;FMTTYPE=image/jpeg:https://kyhumane.mediauradev.com/wp-content/uplo
 ads/2021/05/5769694c84b2bb2d1dae208ebadeff3d.png
CATEGORIES:Fundraising Event
LOCATION:https://www.facebook.com/events/458403712131083
END:VEVENT
END:VCALENDAR