BEGIN:VCALENDAR
VERSION:2.0
PRODID:-//wp-events-plugin.com//6.6.4.4//EN
TZID:America/Kentucky/Louisville
X-WR-TIMEZONE:America/Kentucky/Louisville
BEGIN:VEVENT
UID:547@kyhumane.mediauradev.com
DTSTART;TZID=America/Kentucky/Louisville:20250807T183500
DTEND;TZID=America/Kentucky/Louisville:20250807T230000
DTSTAMP:20250707T202921Z
URL:https://kyhumane.mediauradev.com/events/louisville-bats-dog-days-4/
SUMMARY:Louisville Bats Dog Days
DESCRIPTION:\n\nCome to Louisville Bats Dog Days at Slugger Field on Thursd
 ay\, August 7! Leash up your pup for a night at the ballpark and enjoy the
  excitement of Bats baseball while supporting KHS shelter animals. There's
  no better way to kickstart Spring!\n\n\n\nLearn more and get tickets  htt
 ps://www.milb.com/louisville/tickets/dogdays\n
ATTACH;FMTTYPE=image/jpeg:https://kyhumane.mediauradev.com/wp-content/uplo
 ads/2025/03/Louisville-Dog-Days.jpg
LOCATION:Louisville Slugger Field\, 401 E Main St\, Louisville\, KY\, 40202
 \, United States
X-APPLE-STRUCTURED-LOCATION;VALUE=URI;X-ADDRESS=401 E Main St\, Louisville\
 , KY\, 40202\, United States;X-APPLE-RADIUS=100;X-TITLE=Louisville Slugger
  Field:geo:0,0
END:VEVENT
BEGIN:VTIMEZONE
TZID:America/Kentucky/Louisville
X-LIC-LOCATION:America/Kentucky/Louisville
BEGIN:DAYLIGHT
DTSTART:20250309T030000
TZOFFSETFROM:-0500
TZOFFSETTO:-0400
TZNAME:EDT
END:DAYLIGHT
END:VTIMEZONE
END:VCALENDAR