BEGIN:VCALENDAR
VERSION:2.0
PRODID:-//wp-events-plugin.com//6.6.4.4//EN
TZID:America/Kentucky/Louisville
X-WR-TIMEZONE:America/Kentucky/Louisville
BEGIN:VEVENT
UID:461@kyhumane.mediauradev.com
DTSTART;TZID=America/Kentucky/Louisville:20241023T173000
DTEND;TZID=America/Kentucky/Louisville:20241023T193000
DTSTAMP:20241017T205815Z
URL:https://kyhumane.mediauradev.com/events/makin-biscuits-giveback-night-
 with-good-belly-sandwich-shop/
SUMMARY:Makin' Biscuits - Giveback Night with Good Belly Sandwich Shop
DESCRIPTION:Come out to Good Belly Sandwich Shop to enjoy a special menu an
 d support shelter animals! KHS will be on site with an informational booth
  and will be accepting physical donations in person. 
ATTACH;FMTTYPE=image/jpeg:https://kyhumane.mediauradev.com/wp-content/uplo
 ads/2024/10/Good-Belly.jpg
LOCATION:Good Belly Sandwich Shop\, 2216 Dundee Rd Unit 7\, Louisville\, Ke
 ntucky\, 40205\, United States
X-APPLE-STRUCTURED-LOCATION;VALUE=URI;X-ADDRESS=2216 Dundee Rd Unit 7\, Lou
 isville\, Kentucky\, 40205\, United States;X-APPLE-RADIUS=100;X-TITLE=Good
  Belly Sandwich Shop:geo:0,0
END:VEVENT
BEGIN:VTIMEZONE
TZID:America/Kentucky/Louisville
X-LIC-LOCATION:America/Kentucky/Louisville
BEGIN:DAYLIGHT
DTSTART:20240310T030000
TZOFFSETFROM:-0500
TZOFFSETTO:-0400
TZNAME:EDT
END:DAYLIGHT
END:VTIMEZONE
END:VCALENDAR