BEGIN:VCALENDAR
VERSION:2.0
PRODID:-//wp-events-plugin.com//6.6.4.4//EN
TZID:America/Kentucky/Louisville
X-WR-TIMEZONE:America/Kentucky/Louisville
BEGIN:VEVENT
UID:360@kyhumane.mediauradev.com
DTSTART;TZID=America/Kentucky/Louisville:20240225T140000
DTEND;TZID=America/Kentucky/Louisville:20240225T150000
DTSTAMP:20240220T152827Z
URL:https://kyhumane.mediauradev.com/events/manners-for-life-dogs-4-months
 -and-older-02252024/
SUMMARY:Manners for Life\, dogs 4 months and older
DESCRIPTION:6 weeks (*No class Easter Sunday\, 3/31)\nSundays\, 2:00 - 3:00
  pm\nInstructor: Cherie\n$120 +tax\n\nGet your dog going with the basics! 
 Teach your dog sit\, stay\, leash skills\, and all of their other foundati
 on skills in the presence of  dogs\, humans\, and other distractions.
ATTACH;FMTTYPE=image/jpeg:https://kyhumane.mediauradev.com/wp-content/uplo
 ads/2022/05/2.jpg-e1707259961511.jpg
CATEGORIES:Behavior Training
LOCATION:Kentucky Humane Society East Campus\, 1000 Lyndon Lane\, Louisvill
 e\, KY \, 40222\, United States
X-APPLE-STRUCTURED-LOCATION;VALUE=URI;X-ADDRESS=1000 Lyndon Lane\, Louisvil
 le\, KY \, 40222\, United States;X-APPLE-RADIUS=100;X-TITLE=Kentucky Human
 e Society East Campus:geo:0,0
END:VEVENT
BEGIN:VTIMEZONE
TZID:America/Kentucky/Louisville
X-LIC-LOCATION:America/Kentucky/Louisville
BEGIN:STANDARD
DTSTART:20231105T010000
TZOFFSETFROM:-0400
TZOFFSETTO:-0500
TZNAME:EST
END:STANDARD
END:VTIMEZONE
END:VCALENDAR