BEGIN:VCALENDAR
VERSION:2.0
PRODID:-//wp-events-plugin.com//6.6.4.4//EN
TZID:America/Kentucky/Louisville
X-WR-TIMEZONE:America/Kentucky/Louisville
BEGIN:VEVENT
UID:361@kyhumane.mediauradev.com
DTSTART;TZID=America/Kentucky/Louisville:20240323T100000
DTEND;TZID=America/Kentucky/Louisville:20240323T110000
DTSTAMP:20240313T180559Z
URL:https://kyhumane.mediauradev.com/events/manners-for-life-dogs-4-months
 -and-older-03232024/
SUMMARY:Manners for Life\, dogs 4 months and older
DESCRIPTION:This class is full. Please email behavior@kyhumane.org to be ad
 ded to the waitlist. \n\n6 weeks (*No class Easter weekend\, 3/30)\nSaturd
 ays\, 10:00 - 11:00 am\nInstructor: Sue\n$120 +tax\n\nGet your dog going w
 ith the basics! Teach your dog sit\, stay\, leash skills\, and all of thei
 r other foundation skills in the presence of  dogs\, humans\, and other di
 stractions.
ATTACH;FMTTYPE=image/jpeg:https://kyhumane.mediauradev.com/wp-content/uplo
 ads/2024/02/53155672100_c23b8d4952_c-e1756475145383.jpg
CATEGORIES:Behavior Training
LOCATION:Kentucky Humane Society East Campus\, 1000 Lyndon Lane\, Louisvill
 e\, KY \, 40222\, United States
X-APPLE-STRUCTURED-LOCATION;VALUE=URI;X-ADDRESS=1000 Lyndon Lane\, Louisvil
 le\, KY \, 40222\, United States;X-APPLE-RADIUS=100;X-TITLE=Kentucky Human
 e Society East Campus:geo:0,0
END:VEVENT
BEGIN:VTIMEZONE
TZID:America/Kentucky/Louisville
X-LIC-LOCATION:America/Kentucky/Louisville
BEGIN:DAYLIGHT
DTSTART:20240310T030000
TZOFFSETFROM:-0500
TZOFFSETTO:-0400
TZNAME:EDT
END:DAYLIGHT
END:VTIMEZONE
END:VCALENDAR