BEGIN:VCALENDAR
VERSION:2.0
PRODID:-//wp-events-plugin.com//6.6.4.4//EN
TZID:America/Kentucky/Louisville
X-WR-TIMEZONE:America/Kentucky/Louisville
BEGIN:VEVENT
UID:400@kyhumane.mediauradev.com
DTSTART;TZID=America/Kentucky/Louisville:20240629T140000
DTEND;TZID=America/Kentucky/Louisville:20240629T150000
DTSTAMP:20240626T195202Z
URL:https://kyhumane.mediauradev.com/events/manners-for-life-dogs-4-months
 -and-older-06292024/
SUMMARY:Manners for Life\, dogs 4 months and older
DESCRIPTION:*This class is currently full. Please email Behavior@kyhumane.o
 rg to be added to the waitlist. \n\n6 weeks \nSaturdays\, 2:00 - 3:00 pm\n
 *No class 7/27\nInstructor: Cherie\n$120 +tax\n\nGet your dog going with t
 he basics! Teach your dog sit\, stay\, leash skills\, and all of their oth
 er foundation skills in the presence of  dogs\, humans\, and other distrac
 tions.
ATTACH;FMTTYPE=image/jpeg:https://kyhumane.mediauradev.com/wp-content/uplo
 ads/2024/02/53155672100_c23b8d4952_c-e1756475145383.jpg
CATEGORIES:Behavior Training
LOCATION:Kentucky Humane Society East Campus\, 1000 Lyndon Lane\, Louisvill
 e\, KY \, 40222\, United States
X-APPLE-STRUCTURED-LOCATION;VALUE=URI;X-ADDRESS=1000 Lyndon Lane\, Louisvil
 le\, KY \, 40222\, United States;X-APPLE-RADIUS=100;X-TITLE=Kentucky Human
 e Society East Campus:geo:0,0
END:VEVENT
BEGIN:VTIMEZONE
TZID:America/Kentucky/Louisville
X-LIC-LOCATION:America/Kentucky/Louisville
BEGIN:DAYLIGHT
DTSTART:20240310T030000
TZOFFSETFROM:-0500
TZOFFSETTO:-0400
TZNAME:EDT
END:DAYLIGHT
END:VTIMEZONE
END:VCALENDAR