BEGIN:VCALENDAR
VERSION:2.0
PRODID:-//wp-events-plugin.com//6.6.4.4//EN
TZID:America/Kentucky/Louisville
X-WR-TIMEZONE:America/Kentucky/Louisville
BEGIN:VEVENT
UID:405@kyhumane.mediauradev.com
DTSTART;TZID=America/Kentucky/Louisville:20240710T180000
DTEND;TZID=America/Kentucky/Louisville:20240710T190000
DTSTAMP:20240627T222023Z
URL:https://kyhumane.mediauradev.com/events/manners-for-life-dogs-4-months
 -and-older-07102024/
SUMMARY:Manners for Life\, dogs 4 months and older
DESCRIPTION:*This class is currently full. Please email Behavior@kyhumane.o
 rg to be added to the waitlist. \n\n6 weeks\nWednesdays\, 6:00 - 7:00 pm\n
 Instructor: Melissa\n$120 +tax \n(or $140 +tax for PLUS!)\n\nGet your dog 
 going with the basics! Teach your dog sit\, stay\, leash skills\, and all 
 of their other foundation skills in the presence of  dogs\, humans\, and o
 ther distractions.
ATTACH;FMTTYPE=image/jpeg:https://kyhumane.mediauradev.com/wp-content/uplo
 ads/2024/02/53155672100_c23b8d4952_c-e1756475145383.jpg
CATEGORIES:Behavior Training
LOCATION:Kentucky Humane Society East Campus\, 1000 Lyndon Lane\, Louisvill
 e\, KY \, 40222\, United States
X-APPLE-STRUCTURED-LOCATION;VALUE=URI;X-ADDRESS=1000 Lyndon Lane\, Louisvil
 le\, KY \, 40222\, United States;X-APPLE-RADIUS=100;X-TITLE=Kentucky Human
 e Society East Campus:geo:0,0
END:VEVENT
BEGIN:VTIMEZONE
TZID:America/Kentucky/Louisville
X-LIC-LOCATION:America/Kentucky/Louisville
BEGIN:DAYLIGHT
DTSTART:20240310T030000
TZOFFSETFROM:-0500
TZOFFSETTO:-0400
TZNAME:EDT
END:DAYLIGHT
END:VTIMEZONE
END:VCALENDAR