BEGIN:VCALENDAR
VERSION:2.0
PRODID:-//wp-events-plugin.com//6.6.4.4//EN
TZID:America/Kentucky/Louisville
X-WR-TIMEZONE:America/Kentucky/Louisville
BEGIN:VEVENT
UID:289@kyhumane.mediauradev.com
DTSTART;TZID=America/Kentucky/Louisville:20230807T180000
DTEND;TZID=America/Kentucky/Louisville:20230807T190000
DTSTAMP:20230802T221355Z
URL:https://kyhumane.mediauradev.com/events/manners-for-life-dogs-4-months
 -and-older-08072023/
SUMMARY:Manners for Life\, dogs 4 months and older
DESCRIPTION:6 weeks\nMondays\, 6:00 - 7:00 pm\n*no class Labor Day\, 9/4\n$
 120 +tax\n\nGet your dog going with the basics! Teach your dog sit\, stay\
 , leash skills\, and all of their other foundation skills in the presence 
 of  dogs\, humans\, and other distractions.
ATTACH;FMTTYPE=image/jpeg:https://kyhumane.mediauradev.com/wp-content/uplo
 ads/2022/05/2.jpg-e1707259961511.jpg
CATEGORIES:Behavior Training
LOCATION:Kentucky Humane Society East Campus\, 1000 Lyndon Lane\, Louisvill
 e\, KY \, 40222\, United States
X-APPLE-STRUCTURED-LOCATION;VALUE=URI;X-ADDRESS=1000 Lyndon Lane\, Louisvil
 le\, KY \, 40222\, United States;X-APPLE-RADIUS=100;X-TITLE=Kentucky Human
 e Society East Campus:geo:0,0
END:VEVENT
BEGIN:VTIMEZONE
TZID:America/Kentucky/Louisville
X-LIC-LOCATION:America/Kentucky/Louisville
BEGIN:DAYLIGHT
DTSTART:20230312T030000
TZOFFSETFROM:-0500
TZOFFSETTO:-0400
TZNAME:EDT
END:DAYLIGHT
END:VTIMEZONE
END:VCALENDAR