BEGIN:VCALENDAR
VERSION:2.0
PRODID:-//wp-events-plugin.com//6.6.4.4//EN
TZID:America/Kentucky/Louisville
X-WR-TIMEZONE:America/Kentucky/Louisville
BEGIN:VEVENT
UID:489@kyhumane.mediauradev.com
DTSTART;TZID=America/Kentucky/Louisville:20250329T140000
DTEND;TZID=America/Kentucky/Louisville:20250503T150000
DTSTAMP:20250224T161633Z
URL:https://kyhumane.mediauradev.com/events/manners-for-life-dogs-4-months
 -and-older-10/
SUMMARY:Manners for Life\, dogs 4 months and older
DESCRIPTION:**CLASS FULL**\n6 weeks \nSaturdays 2:00 pm - 3:00 pm\n\nInstru
 ctor: Cherie\n$150 +tax\n\nGet your dog going with the basics! Teach your 
 dog sit\, stay\, leash skills\, and all of their other foundation skills i
 n the presence of  dogs\, humans\, and other distractions.
ATTACH;FMTTYPE=image/jpeg:https://kyhumane.mediauradev.com/wp-content/uplo
 ads/2024/02/53155672100_c23b8d4952_c-e1756475145383.jpg
CATEGORIES:Behavior Training,Manners of life
LOCATION:Kentucky Humane Society East Campus\, 1000 Lyndon Lane\, Louisvill
 e\, KY \, 40222\, United States
X-APPLE-STRUCTURED-LOCATION;VALUE=URI;X-ADDRESS=1000 Lyndon Lane\, Louisvil
 le\, KY \, 40222\, United States;X-APPLE-RADIUS=100;X-TITLE=Kentucky Human
 e Society East Campus:geo:0,0
END:VEVENT
BEGIN:VTIMEZONE
TZID:America/Kentucky/Louisville
X-LIC-LOCATION:America/Kentucky/Louisville
BEGIN:DAYLIGHT
DTSTART:20250309T030000
TZOFFSETFROM:-0500
TZOFFSETTO:-0400
TZNAME:EDT
END:DAYLIGHT
END:VTIMEZONE
END:VCALENDAR