BEGIN:VCALENDAR
VERSION:2.0
PRODID:-//wp-events-plugin.com//6.6.4.4//EN
TZID:America/Kentucky/Louisville
X-WR-TIMEZONE:America/Kentucky/Louisville
BEGIN:VEVENT
UID:448@kyhumane.mediauradev.com
DTSTART;TZID=America/Kentucky/Louisville:20241102T100000
DTEND;TZID=America/Kentucky/Louisville:20241214T110000
DTSTAMP:20241205T135442Z
URL:https://kyhumane.mediauradev.com/events/manners-for-life-dogs-4-months
 -and-older-4/
SUMMARY:Manners for Life\, dogs 4 months and older
DESCRIPTION:6 weeks \nSaturdays\, 10:00 - 11:00 pm\n*No class November 30th
 \n\n**1 SPOT LEFT!**\n\nInstructor: Sue\n$150 +tax\n\nGet your dog going w
 ith the basics! Teach your dog sit\, stay\, leash skills\, and all of thei
 r other foundation skills in the presence of  dogs\, humans\, and other di
 stractions.
ATTACH;FMTTYPE=image/jpeg:https://kyhumane.mediauradev.com/wp-content/uplo
 ads/2024/02/53155672100_c23b8d4952_c-e1756475145383.jpg
CATEGORIES:Behavior Training,Manners of life
LOCATION:Kentucky Humane Society East Campus\, 1000 Lyndon Lane\, Louisvill
 e\, KY \, 40222\, United States
X-APPLE-STRUCTURED-LOCATION;VALUE=URI;X-ADDRESS=1000 Lyndon Lane\, Louisvil
 le\, KY \, 40222\, United States;X-APPLE-RADIUS=100;X-TITLE=Kentucky Human
 e Society East Campus:geo:0,0
END:VEVENT
BEGIN:VTIMEZONE
TZID:America/Kentucky/Louisville
X-LIC-LOCATION:America/Kentucky/Louisville
BEGIN:DAYLIGHT
DTSTART:20240310T030000
TZOFFSETFROM:-0500
TZOFFSETTO:-0400
TZNAME:EDT
END:DAYLIGHT
BEGIN:STANDARD
DTSTART:20241103T010000
TZOFFSETFROM:-0400
TZOFFSETTO:-0500
TZNAME:EST
END:STANDARD
END:VTIMEZONE
END:VCALENDAR