BEGIN:VCALENDAR
VERSION:2.0
PRODID:-//wp-events-plugin.com//6.6.4.4//EN
TZID:America/Kentucky/Louisville
X-WR-TIMEZONE:America/Kentucky/Louisville
BEGIN:VEVENT
UID:481@kyhumane.mediauradev.com
DTSTART;TZID=America/Kentucky/Louisville:20250126T151500
DTEND;TZID=America/Kentucky/Louisville:20250302T161500
DTSTAMP:20250123T135554Z
URL:https://kyhumane.mediauradev.com/events/manners-for-life-dogs-4-months
 -and-older-8/
SUMMARY:Manners for Life\, dogs 4 months and older
DESCRIPTION:**Class Full**\n6 weeks \nSundays\, 3:15 pm - 4:15 pm\n*Class w
 as postponed 1 week\, it was orginally scheduled to start 1/19\n\nInstruct
 or: Cherie\n$150 +tax\n\nGet your dog going with the basics! Teach your do
 g sit\, stay\, leash skills\, and all of their other foundation skills in 
 the presence of  dogs\, humans\, and other distractions.
ATTACH;FMTTYPE=image/jpeg:https://kyhumane.mediauradev.com/wp-content/uplo
 ads/2024/02/53155672100_c23b8d4952_c-e1756475145383.jpg
CATEGORIES:Behavior Training,Manners of life
LOCATION:Kentucky Humane Society East Campus\, 1000 Lyndon Lane\, Louisvill
 e\, KY \, 40222\, United States
X-APPLE-STRUCTURED-LOCATION;VALUE=URI;X-ADDRESS=1000 Lyndon Lane\, Louisvil
 le\, KY \, 40222\, United States;X-APPLE-RADIUS=100;X-TITLE=Kentucky Human
 e Society East Campus:geo:0,0
END:VEVENT
BEGIN:VTIMEZONE
TZID:America/Kentucky/Louisville
X-LIC-LOCATION:America/Kentucky/Louisville
BEGIN:STANDARD
DTSTART:20241103T010000
TZOFFSETFROM:-0400
TZOFFSETTO:-0500
TZNAME:EST
END:STANDARD
END:VTIMEZONE
END:VCALENDAR