BEGIN:VCALENDAR
VERSION:2.0
PRODID:-//wp-events-plugin.com//6.6.4.4//EN
TZID:America/Kentucky/Louisville
X-WR-TIMEZONE:America/Kentucky/Louisville
BEGIN:VEVENT
UID:126@kyhumane.mediauradev.com
DTSTART:20211002T100000Z
DTEND:20211106T110000Z
DTSTAMP:20220617T144509Z
URL:https://kyhumane.mediauradev.com/events/manners-for-life-dogs-4-months
 -and-older-instructor-sue-length-6-weeks-cost-90-00-8/
SUMMARY:Manners for Life\, dogs 4 months and older\, Instructor: Sue. Lengt
 h: 6 weeks. Cost: $90.00
DESCRIPTION:Saturdays\, 10:00 - 11:00 am\n\nGet your dog going with the bas
 ics! Teach your dog sit\, stay\, leash skills\, and all of their other fou
 ndation skills in the presence of  dogs\, humans\, and other distractions.
ATTACH;FMTTYPE=image/jpeg:https://kyhumane.mediauradev.com/wp-content/uplo
 ads/2022/06/52120035680_ce07039b50_c.jpg
CATEGORIES:Behavior Training,Manners of life
LOCATION:Kentucky Humane Society East Campus\, 1000 Lyndon Lane\, Louisvill
 e\, KY \, 40222\, United States
X-APPLE-STRUCTURED-LOCATION;VALUE=URI;X-ADDRESS=1000 Lyndon Lane\, Louisvil
 le\, KY \, 40222\, United States;X-APPLE-RADIUS=100;X-TITLE=Kentucky Human
 e Society East Campus:geo:0,0
END:VEVENT
END:VCALENDAR