BEGIN:VCALENDAR
VERSION:2.0
PRODID:-//wp-events-plugin.com//6.6.4.4//EN
TZID:America/Kentucky/Louisville
X-WR-TIMEZONE:America/Kentucky/Louisville
BEGIN:VEVENT
UID:220@kyhumane.mediauradev.com
DTSTART;TZID=America/Kentucky/Louisville:20230110T180000
DTEND;TZID=America/Kentucky/Louisville:20230110T190000
DTSTAMP:20221222T160829Z
URL:https://kyhumane.mediauradev.com/events/manners-for-life-for-dogs-4-mo
 nths-and-older-01102023/
SUMMARY:Manners for Life\, dogs 4 months and older
DESCRIPTION:6 weeks\nTuesdays\, 6:00 - 7:00 pm\n$95 +tax\n\nGet your dog go
 ing with the basics! Teach your dog sit\, stay\, leash skills\, and all of
  their other foundation skills in the presence of  dogs\, humans\, and oth
 er distractions.
ATTACH;FMTTYPE=image/jpeg:https://kyhumane.mediauradev.com/wp-content/uplo
 ads/2022/06/52120035680_ce07039b50_c-1.jpg
CATEGORIES:Behavior Training
LOCATION:Kentucky Humane Society East Campus\, 1000 Lyndon Lane\, Louisvill
 e\, KY \, 40222\, United States
X-APPLE-STRUCTURED-LOCATION;VALUE=URI;X-ADDRESS=1000 Lyndon Lane\, Louisvil
 le\, KY \, 40222\, United States;X-APPLE-RADIUS=100;X-TITLE=Kentucky Human
 e Society East Campus:geo:0,0
END:VEVENT
BEGIN:VTIMEZONE
TZID:America/Kentucky/Louisville
X-LIC-LOCATION:America/Kentucky/Louisville
BEGIN:STANDARD
DTSTART:20221106T010000
TZOFFSETFROM:-0400
TZOFFSETTO:-0500
TZNAME:EST
END:STANDARD
END:VTIMEZONE
END:VCALENDAR