BEGIN:VCALENDAR
VERSION:2.0
PRODID:-//wp-events-plugin.com//6.6.4.4//EN
TZID:America/Kentucky/Louisville
X-WR-TIMEZONE:America/Kentucky/Louisville
BEGIN:VEVENT
UID:43@kyhumane.mediauradev.com
DTSTART:20210720T191500Z
DTEND:20210720T201500Z
DTSTAMP:20220617T143742Z
URL:https://kyhumane.mediauradev.com/events/manners-for-life/
SUMMARY:Manners for Life
DESCRIPTION:Get your dog going with the basics! Teach your dog sit\, stay\,
  leash skills\, and all of their other foundation skills in the presence o
 f dogs\, humans\, and other distractions.
ATTACH;FMTTYPE=image/jpeg:https://kyhumane.mediauradev.com/wp-content/uplo
 ads/2021/06/51162413518_6ef2820b62_w-e1710353195528.jpg
CATEGORIES:Fundraising Event
LOCATION:Kentucky Humane Society East Campus\, 1000 Lyndon Lane\, Louisvill
 e\, KY \, 40222\, United States
X-APPLE-STRUCTURED-LOCATION;VALUE=URI;X-ADDRESS=1000 Lyndon Lane\, Louisvil
 le\, KY \, 40222\, United States;X-APPLE-RADIUS=100;X-TITLE=Kentucky Human
 e Society East Campus:geo:0,0
END:VEVENT
END:VCALENDAR