BEGIN:VCALENDAR
VERSION:2.0
PRODID:-//wp-events-plugin.com//6.6.4.4//EN
TZID:America/Kentucky/Louisville
X-WR-TIMEZONE:America/Kentucky/Louisville
BEGIN:VEVENT
UID:81@kyhumane.mediauradev.com
DTSTART;TZID=America/Kentucky/Louisville:20211016T103000
DTEND;TZID=America/Kentucky/Louisville:20211016T163000
DTSTAMP:20211012T133459Z
URL:https://kyhumane.mediauradev.com/events/market-on-mellwood-fall-festiv
 al/
SUMMARY:Market on Mellwood Fall Festival
DESCRIPTION:\nJoin us for the last Market on Mellwood for 2021 as you strol
 l through the Mellwood Art Center courtyard shopping from local talented a
 rtisans. Food and fun for everyone including kids as we transition into th
 e Fall season. Get a jump on your holiday shopping for sure!\n
ATTACH;FMTTYPE=image/jpeg:https://kyhumane.mediauradev.com/wp-content/uplo
 ads/2021/10/243792930_225320489656439_5226930988590914726_n.png
END:VEVENT
BEGIN:VTIMEZONE
TZID:America/Kentucky/Louisville
X-LIC-LOCATION:America/Kentucky/Louisville
BEGIN:DAYLIGHT
DTSTART:20210314T030000
TZOFFSETFROM:-0500
TZOFFSETTO:-0400
TZNAME:EDT
END:DAYLIGHT
END:VTIMEZONE
END:VCALENDAR