BEGIN:VCALENDAR
VERSION:2.0
PRODID:-//wp-events-plugin.com//6.6.4.4//EN
TZID:America/Kentucky/Louisville
X-WR-TIMEZONE:America/Kentucky/Louisville
BEGIN:VEVENT
UID:603@kyhumane.mediauradev.com
DTSTART;TZID=America/Kentucky/Louisville:20251210T170000
DTEND;TZID=America/Kentucky/Louisville:20251210T190000
DTSTAMP:20251022T190924Z
URL:https://kyhumane.mediauradev.com/events/meet-the-architects-at-k-norma
 n-berry-associates-pllc/
SUMMARY:Meet the Architects at K. Norman Berry Associates PLLC
DESCRIPTION:\n\nJoin the Kentucky Humane Society for a special event: Meet
  the Architects at K. Norman Berry Associates PLLC. We're excited to share
  details about our upcoming Animal &amp\; Community Campus — a visionary
  project designed to transform how we serve animals and the people who lov
 e them. At this event\, you'll have the unique opportunity to hear directl
 y from the architectural team at KNBA\, the firm leading the design of thi
 s important initiative. Learn about the inspiration behind the project\, s
 ee early concepts\, and discover how you can play a role in bringing this 
 vision to life. We hope you'll join us for an evening of insight\, connect
 ion\, and community support! Learn more here.
ATTACH;FMTTYPE=image/jpeg:https://kyhumane.mediauradev.com/wp-content/uplo
 ads/2025/10/All-In-Announcment-scaled.jpg
LOCATION:K Norman Berry Associates PLLC\, 815 West Market Street #502\, Lou
 isville\, KY\, 40202\, United States
X-APPLE-STRUCTURED-LOCATION;VALUE=URI;X-ADDRESS=815 West Market Street #502
 \, Louisville\, KY\, 40202\, United States;X-APPLE-RADIUS=100;X-TITLE=K No
 rman Berry Associates PLLC:geo:0,0
END:VEVENT
BEGIN:VTIMEZONE
TZID:America/Kentucky/Louisville
X-LIC-LOCATION:America/Kentucky/Louisville
BEGIN:STANDARD
DTSTART:20251102T010000
TZOFFSETFROM:-0400
TZOFFSETTO:-0500
TZNAME:EST
END:STANDARD
END:VTIMEZONE
END:VCALENDAR