BEGIN:VCALENDAR
VERSION:2.0
PRODID:-//wp-events-plugin.com//6.6.4.4//EN
TZID:America/Kentucky/Louisville
X-WR-TIMEZONE:America/Kentucky/Louisville
BEGIN:VEVENT
UID:429@kyhumane.mediauradev.com
DTSTART;TZID=America/Kentucky/Louisville:20240824T170000
DTEND;TZID=America/Kentucky/Louisville:20240824T190000
DTSTAMP:20240822T200744Z
URL:https://kyhumane.mediauradev.com/events/national-dog-day-celebration/
SUMMARY:National Dog Day Celebration
DESCRIPTION:Join us at Club K9 Dog Bar for National Dog Day on August 24th\
 , 2024! We will be there with adoptable puppies to cuddle! Anyone who adop
 ts one that day will receive a free year membership at Club K9 Dog Bar. Th
 ere will be doggie vendors and raffle baskets donated by our gracious vend
 ors\, dog themed cocktails\, and fun for the dogs &amp\; humans!\n\n
ATTACH;FMTTYPE=image/jpeg:https://kyhumane.mediauradev.com/wp-content/uplo
 ads/2024/07/k9.jpg
LOCATION:Club K9\, 9316 Taylorsville Rd\, Louisville\, KY\, 40299\, United 
 States
X-APPLE-STRUCTURED-LOCATION;VALUE=URI;X-ADDRESS=9316 Taylorsville Rd\, Loui
 sville\, KY\, 40299\, United States;X-APPLE-RADIUS=100;X-TITLE=Club K9:geo
 :0,0
END:VEVENT
BEGIN:VTIMEZONE
TZID:America/Kentucky/Louisville
X-LIC-LOCATION:America/Kentucky/Louisville
BEGIN:DAYLIGHT
DTSTART:20240310T030000
TZOFFSETFROM:-0500
TZOFFSETTO:-0400
TZNAME:EDT
END:DAYLIGHT
END:VTIMEZONE
END:VCALENDAR