BEGIN:VCALENDAR
VERSION:2.0
PRODID:-//wp-events-plugin.com//6.6.4.4//EN
TZID:America/Kentucky/Louisville
X-WR-TIMEZONE:America/Kentucky/Louisville
BEGIN:VEVENT
UID:370@kyhumane.mediauradev.com
DTSTART;TZID=America/Kentucky/Louisville:20240323T170000
DTEND;TZID=America/Kentucky/Louisville:20240323T200000
DTSTAMP:20240311T164613Z
URL:https://kyhumane.mediauradev.com/events/national-puppy-day-at-club-k9/
SUMMARY:National Puppy Day at Club K9
DESCRIPTION:\nJoin us on Saturday\, March 23 from 5-8 p.m. at Club K9 for a
  National Puppy Day Celebration benefiting the Kentucky Humane Society! Wi
 th dog-focused vendors\, delicious food trucks\, dog-themed cocktails\, ra
 ffles and more\, it's sure to be a paw-some day celebrating our four-legge
 d friends. KHS staff will be onsite with adoptable puppies\, and anyone wh
 o adopts at this event will be gifted a FREE year-long membership to Club 
 K9!\n\n\n\n\n
ATTACH;FMTTYPE=image/jpeg:https://kyhumane.mediauradev.com/wp-content/uplo
 ads/2024/03/National-Puppy-Day-at-Club-K9-Dog-Bar.png
LOCATION:Club K9\, 9316 Taylorsville Rd\, Louisville\, KY\, 40299\, United 
 States
X-APPLE-STRUCTURED-LOCATION;VALUE=URI;X-ADDRESS=9316 Taylorsville Rd\, Loui
 sville\, KY\, 40299\, United States;X-APPLE-RADIUS=100;X-TITLE=Club K9:geo
 :0,0
END:VEVENT
BEGIN:VTIMEZONE
TZID:America/Kentucky/Louisville
X-LIC-LOCATION:America/Kentucky/Louisville
BEGIN:DAYLIGHT
DTSTART:20240310T030000
TZOFFSETFROM:-0500
TZOFFSETTO:-0400
TZNAME:EDT
END:DAYLIGHT
END:VTIMEZONE
END:VCALENDAR