BEGIN:VCALENDAR
VERSION:2.0
PRODID:-//wp-events-plugin.com//6.6.4.4//EN
TZID:America/Kentucky/Louisville
X-WR-TIMEZONE:America/Kentucky/Louisville
BEGIN:VEVENT
UID:587@kyhumane.mediauradev.com
DTSTART;TZID=America/Kentucky/Louisville;VALUE=DATE:20250913
DTEND;TZID=America/Kentucky/Louisville;VALUE=DATE:20250915
DTSTAMP:20250908T162805Z
URL:https://kyhumane.mediauradev.com/events/no-place-like-home-adoption-ev
 ent-sponsored-by-metlife-pet-insurance/
SUMMARY:No Place Like Home Adoption Event Sponsored by MetLife Pet Insuranc
 e
DESCRIPTION:\n\nAdoption fees for adult dogs  (1 year+) are WAIVED all wee
 kend courtesy of our friends from MetLife Pet Insurance.  Visit our Sam S
 wope Pet TLC (241 Steedly Drive) or East Campus (1000 Lyndon Lane) TODAY t
 o take part in the No Place Like Home Adoption Event before time runs out.
 \n
ATTACH;FMTTYPE=image/jpeg:https://kyhumane.mediauradev.com/wp-content/uplo
 ads/2025/09/MetLife-Website-Slider.jpg
END:VEVENT
BEGIN:VTIMEZONE
TZID:America/Kentucky/Louisville
X-LIC-LOCATION:America/Kentucky/Louisville
BEGIN:DAYLIGHT
DTSTART:20250309T030000
TZOFFSETFROM:-0500
TZOFFSETTO:-0400
TZNAME:EDT
END:DAYLIGHT
END:VTIMEZONE
END:VCALENDAR