BEGIN:VCALENDAR
VERSION:2.0
PRODID:-//wp-events-plugin.com//6.6.4.4//EN
TZID:America/Kentucky/Louisville
X-WR-TIMEZONE:America/Kentucky/Louisville
BEGIN:VEVENT
UID:311@kyhumane.mediauradev.com
DTSTART;TZID=America/Kentucky/Louisville:20231008T120000
DTEND;TZID=America/Kentucky/Louisville:20231008T150000
DTSTAMP:20230918T170436Z
URL:https://kyhumane.mediauradev.com/events/paint-your-pet-harry-paw-ter-e
 dition/
SUMMARY:Paint Your Pet: Harry Paw-ter Edition
DESCRIPTION:\n\n\n\n\nHave you always wanted to paint the perfect picture o
 f your beloved pet while drinking delicious craft beer? Now is your chance
 ! Paint Your Pet is back in Louisville with local artist\, Zach Lowe! Thi
 s time around\, we're adding a wizard twist - now you can paint your pet "
 Harry Paw-ter" style. Join us on Sunday\, October 8 from 12-3 p.m. at Ten2
 0 Craft Brewery for a pet painting paw-ty benefitting our sweet shelter pe
 ts!\n\n\n\nTickets are $40 per person\, and 50% of all ticket sales will b
 e donated towards the Kentucky Humane Society's lifesaving programs for ca
 ts\, dogs and horses.\n\n\n\n\nPurchase Tickets Now\n\n\n\n\nPET PHOTOS: \
 n\n\n\nPlease submit a photo of your pet vie email to Zach Lowe at zachlow
 e.gallery@gmail.com BEFORE Saturday\, October 7. Please include your full 
 name and 3-5 high quality photos of your pet. Please also include "KHS" in
  the subject line. Only 1 pet can be sketched on your canvas. This will re
 sult in the best finished painting\, along with ensuring you finish on tim
 e.\n\n\n\nPAINTING DETAILS:\n\n\n\nHarry Paw-ter details: Your pet can be
  dressed up as a wizard! Comes with a scar\, glasses\, wand\, and scarf! Y
 ou can also include the sorting hat if desired. When submitting your photo
 s it is HIGHLY recommend you send a photo of your pet at eye level\, this 
 will result in the best portrait. Please send 2-5 photos.\n\n\n\nDon't hav
 e a pet to paint? We have 5 different Harry Paw-ter themes to choose from.
  All can be customized to your liking.Choose from: \n\n\n\n\n White Stag\
 n\n\n\nNight sky Owl\n\n\n\nSorting Hat\n\n\n\nColorful moon\n\n\n\nSunset
  Silhouette\n\n\n\n\nAdditionally All colors can be customized to your hou
 se preferences.\n\n\n\nTraditional pet portrait details: Please send 2-5 
 photos to Zach at the email listed above. You are limited to 1 pet per can
 vas. This will result in the best finished result and will ensure that you
  can finish on time. Any special requests about you sketch can be included
  in the email.\n\n\n\nClick here to get your tickets before it's too late!
 \n\n\n\n\n
ATTACH;FMTTYPE=image/jpeg:https://kyhumane.mediauradev.com/wp-content/uplo
 ads/2023/09/Harry-over-hogwarts.jpg
LOCATION:Ten20 Brewery\, 1020 East Washington St\, Louisville\, KY\, 40206\
 , United States
X-APPLE-STRUCTURED-LOCATION;VALUE=URI;X-ADDRESS=1020 East Washington St\, L
 ouisville\, KY\, 40206\, United States;X-APPLE-RADIUS=100;X-TITLE=Ten20 Br
 ewery:geo:0,0
END:VEVENT
BEGIN:VTIMEZONE
TZID:America/Kentucky/Louisville
X-LIC-LOCATION:America/Kentucky/Louisville
BEGIN:DAYLIGHT
DTSTART:20230312T030000
TZOFFSETFROM:-0500
TZOFFSETTO:-0400
TZNAME:EDT
END:DAYLIGHT
END:VTIMEZONE
END:VCALENDAR