BEGIN:VCALENDAR
VERSION:2.0
PRODID:-//wp-events-plugin.com//6.6.4.4//EN
TZID:America/Kentucky/Louisville
X-WR-TIMEZONE:America/Kentucky/Louisville
BEGIN:VEVENT
UID:353@kyhumane.mediauradev.com
DTSTART;TZID=America/Kentucky/Louisville:20240204T110000
DTEND;TZID=America/Kentucky/Louisville:20240204T140000
DTSTAMP:20240115T145551Z
URL:https://kyhumane.mediauradev.com/events/paint-your-pet-with-zach-lowe-
 2/
SUMMARY:Paint Your Pet With Zach Lowe
DESCRIPTION:\nSunday\, February 4 from 11 a.m. - 2 p.m. \n\n\n\n\n\n\n\nHav
 e you always wanted to paint the purr-fect photo of your beloved pet? Now 
 is your chance!\n\n\n\nJoin us at Ten20 Brewery on Sunday\, February 4th f
 or another paw-some Paint Your Pet event with local artist\, Zach Lowe. Th
 is creative experience is available for anyone 21 and older (even beginner
 s)\, and $20 of each ticket is donated to KHS to support our lifesaving pr
 ograms for cats\, dogs and horses!\n\n\n\n\nClick Here to Register\n\n\n\n
 \nHow it works:You will receive a canvas with your pet sketched out (photo
  submission details below). You will then be guided through a detailed ste
 p-by-step process on how to paint your specific pet. We supply all necessa
 ry supplies\, including paints\, brushes and canvases.Note: Artists are li
 mited to one animal per canvas. This will result in the best finished prod
 uct\, and ensures enough time to finish painting. \n\n\n\nYou can paint on
 e of two styles: 1. Pop-Art style (vibrant colors\, Andy Warhol-inspired)2
 . Traditional style (stays true to your pet's colors)\n\n\n\nPet Photo Sub
 missions:Please submit a photo of your pet via email to our instructor\, Z
 ach\, at zachlowe.gallery@gmail.comPlease include your full name and 3-5 h
 igh-quality photographs of your pet. Please also include "KHS" in the subj
 ect line.\n\n\n\n\n\n\n\n\n
ATTACH;FMTTYPE=image/jpeg:https://kyhumane.mediauradev.com/wp-content/uplo
 ads/2024/01/Copy-of-Rotating-themes2.png
LOCATION:Ten20 Brewery\, 1020 East Washington St\, Louisville\, KY\, 40206\
 , United States
X-APPLE-STRUCTURED-LOCATION;VALUE=URI;X-ADDRESS=1020 East Washington St\, L
 ouisville\, KY\, 40206\, United States;X-APPLE-RADIUS=100;X-TITLE=Ten20 Br
 ewery:geo:0,0
END:VEVENT
BEGIN:VTIMEZONE
TZID:America/Kentucky/Louisville
X-LIC-LOCATION:America/Kentucky/Louisville
BEGIN:STANDARD
DTSTART:20231105T010000
TZOFFSETFROM:-0400
TZOFFSETTO:-0500
TZNAME:EST
END:STANDARD
END:VTIMEZONE
END:VCALENDAR