BEGIN:VCALENDAR
VERSION:2.0
PRODID:-//wp-events-plugin.com//6.6.4.4//EN
TZID:America/Kentucky/Louisville
X-WR-TIMEZONE:America/Kentucky/Louisville
BEGIN:VEVENT
UID:44@kyhumane.mediauradev.com
DTSTART:20211011T100000Z
DTEND:20211011T180000Z
DTSTAMP:20210901T144118Z
URL:https://kyhumane.mediauradev.com/events/pars-for-pets/
SUMMARY:Pars for Pets
DESCRIPTION:Join Patricia Swope\, Honorary Chair for the 2021 Kentucky Huma
 ne Society's Pars for Pets\, at the prestigious championship-style Big Spr
 ing Country Club.
ATTACH;FMTTYPE=image/jpeg:https://kyhumane.mediauradev.com/wp-content/uplo
 ads/2021/09/02j16127-scaled.jpg
LOCATION:Big Spring Country Club\, 5901 Dutchmans Lane\, Louisville\, Kentu
 cky\, 40205\, United States
X-APPLE-STRUCTURED-LOCATION;VALUE=URI;X-ADDRESS=5901 Dutchmans Lane\, Louis
 ville\, Kentucky\, 40205\, United States;X-APPLE-RADIUS=100;X-TITLE=Big Sp
 ring Country Club:geo:0,0
END:VEVENT
END:VCALENDAR