BEGIN:VCALENDAR
VERSION:2.0
PRODID:-//wp-events-plugin.com//6.6.4.4//EN
TZID:America/Kentucky/Louisville
X-WR-TIMEZONE:America/Kentucky/Louisville
BEGIN:VEVENT
UID:76@kyhumane.mediauradev.com
DTSTART;TZID=America/Kentucky/Louisville:20211002T170000
DTEND;TZID=America/Kentucky/Louisville:20211002T210000
DTSTAMP:20210924T162912Z
URL:https://kyhumane.mediauradev.com/events/patio-puptails-at-flanagans/
SUMMARY:Patio Puptails at Flanagan’s
DESCRIPTION:\nCome out to Patio Puptails at Flanagan's Ale House on Oct. 2 
 from 5-9pm for beers and cocktails. Bring your friends to ana amazing even
 ing featuring puppies from KHS! For every Tito's cocktail sold during the 
 month of October\, Flanagan's will donate $1 to KHS to help continue lifes
 aving work for shelter animals\n
ATTACH;FMTTYPE=image/jpeg:https://kyhumane.mediauradev.com/wp-content/uplo
 ads/2021/09/241636689_4243435585705230_7532069299761389410_n.jpg
END:VEVENT
BEGIN:VTIMEZONE
TZID:America/Kentucky/Louisville
X-LIC-LOCATION:America/Kentucky/Louisville
BEGIN:DAYLIGHT
DTSTART:20210314T030000
TZOFFSETFROM:-0500
TZOFFSETTO:-0400
TZNAME:EDT
END:DAYLIGHT
END:VTIMEZONE
END:VCALENDAR