BEGIN:VCALENDAR
VERSION:2.0
PRODID:-//wp-events-plugin.com//6.6.4.4//EN
TZID:America/Kentucky/Louisville
X-WR-TIMEZONE:America/Kentucky/Louisville
BEGIN:VEVENT
UID:343@kyhumane.mediauradev.com
DTSTART;TZID=America/Kentucky/Louisville:20231216T100000
DTEND;TZID=America/Kentucky/Louisville:20231216T180000
DTSTAMP:20231204T182325Z
URL:https://kyhumane.mediauradev.com/events/paw-liday-tattoo-flash-fundrai
 ser/
SUMMARY:Paw-liday Tattoo Flash Fundraiser
DESCRIPTION:\nThis holiday season\, make a difference for our sweet shelter
  animals! Tats by Bubbles is hosting a charity flash event and ALL proceed
 s will be donated to the Kentucky Humane Society. No appointments needed -
  it's first come\, first serve. \n\n\n\nGet a rad black-and-grey 2x2 tatto
 o from the flash sheet on your legs or arms\, and let's spread the love fo
 r our 4-legged friends! Not feeling the ink but still want to lend a paw? 
 No problem! Stop by and drop off an item from KHS' wish list - every littl
 e bit helps. Join us on December 16 and let's ink for a cause!\n\n\n\n\n\n
 \n\n\n
ATTACH;FMTTYPE=image/jpeg:https://kyhumane.mediauradev.com/wp-content/uplo
 ads/2023/11/Tats-by-Bubbles.jpg
LOCATION:Highland Tattoo Company\, 2240 Taylorsville Road\, Suite 102\, Lou
 isville\, KY\, 40205\, United States
X-APPLE-STRUCTURED-LOCATION;VALUE=URI;X-ADDRESS=2240 Taylorsville Road\, Su
 ite 102\, Louisville\, KY\, 40205\, United States;X-APPLE-RADIUS=100;X-TIT
 LE=Highland Tattoo Company:geo:0,0
END:VEVENT
BEGIN:VTIMEZONE
TZID:America/Kentucky/Louisville
X-LIC-LOCATION:America/Kentucky/Louisville
BEGIN:STANDARD
DTSTART:20231105T010000
TZOFFSETFROM:-0400
TZOFFSETTO:-0500
TZNAME:EST
END:STANDARD
END:VTIMEZONE
END:VCALENDAR