BEGIN:VCALENDAR
VERSION:2.0
PRODID:-//wp-events-plugin.com//6.6.4.4//EN
TZID:America/Kentucky/Louisville
X-WR-TIMEZONE:America/Kentucky/Louisville
BEGIN:VEVENT
UID:215@kyhumane.mediauradev.com
DTSTART;TZID=America/Kentucky/Louisville;VALUE=DATE:20221126
DTEND;TZID=America/Kentucky/Louisville;VALUE=DATE:20221209
DTSTAMP:20221201T121339Z
URL:https://kyhumane.mediauradev.com/events/pawliday-auction-raffle/
SUMMARY:Pawliday Auction &amp\; Raffle
DESCRIPTION:\n\n\n\n\nIt's Pawliday Auction &amp\; Raffle time!\n\n\n\nThe 
 Auction &amp\; Raffle opens Saturday\, November 26\, and closes at 8pm Thu
 rsday\, December 8\, 2022\n\n\n\nThe Kentucky Humane Society’s annual Pa
 wliday Raffle &amp\; Auction has the purrrfect gifts for everyone on your 
 list this season and offers you a chance to win $1\,000 – all while help
 ing the animals!\n\n\n\n\n\n\n\n$1\,000 RaffleFor just $10 a chance\, you
  could win $1\,000 and help the animals at KHS!  The raffle drawing with
  take place Friday\, December 9\, 2022\, at 1pm at our East Campus and wil
 l be broadcast live on Facebook.  Our Pawliday Raffle is generously spons
 ored by Lifetime Wealth Strategies.\n\n\n\nPURCHASE RAFFLES\n\n\n\n\n\n\n\
 nPawliday AuctionBid for a chance to win your favorite silent auction item
 s\, including a Lunch Date with Hero Dog Ethan\, tickets to "The Nutcracke
 r\," boarding and grooming for your furry family member\, beautiful Christ
 mas ornaments and much more. PAWLIDAY AUCTION\n\n\n\nWe are unable to ship
  items. Auction pick up is 11am-4pm Friday\, Dec. 9 and 11am-2pm Saturday\
 , Dec. 10\, 2022\, at the KHS East Campus\, 1000 Lyndon Lane Suite B\, Lou
 isville KY 40222.\n\n\n\n\nLearn More!\n\n
ATTACH;FMTTYPE=image/jpeg:https://kyhumane.mediauradev.com/wp-content/uplo
 ads/2022/11/featuredimage.png
END:VEVENT
BEGIN:VTIMEZONE
TZID:America/Kentucky/Louisville
X-LIC-LOCATION:America/Kentucky/Louisville
BEGIN:STANDARD
DTSTART:20221106T010000
TZOFFSETFROM:-0400
TZOFFSETTO:-0500
TZNAME:EST
END:STANDARD
END:VTIMEZONE
END:VCALENDAR