BEGIN:VCALENDAR
VERSION:2.0
PRODID:-//wp-events-plugin.com//6.6.4.4//EN
TZID:America/Kentucky/Louisville
X-WR-TIMEZONE:America/Kentucky/Louisville
BEGIN:VEVENT
UID:91@kyhumane.mediauradev.com
DTSTART;TZID=America/Kentucky/Louisville:20211127T000000
DTEND;TZID=America/Kentucky/Louisville:20211209T200000
DTSTAMP:20211124T202657Z
URL:https://kyhumane.mediauradev.com/events/pawliday-raffle-auction/
SUMMARY:Pawliday Raffle & Auction
DESCRIPTION:\n\n\n\n\nThe Kentucky Humane Society’s second annual Pawlida
 y Raffle &amp\; Auction&nbsp\;has the purrrfect gifts for everyone on your
  list this season and offers you a chance to win $1\,000 –&nbsp\;all whi
 le&nbsp\;helping the animals!\n\n\n\n\nEnter to Win!\n\n\n\n\n\n\n\n\n$1\,
 000 Raffle\n\n\n\nFor just $10 a chance\, you could win $1\,000 and help t
 he animals at KHS! The raffle drawing with take place on Friday\, December
  10 at 1pm. A big thanks to MetLife Pet Insurance for sponsoring this raff
 le!\n\n\n\n\n\n\n\nPawliday Auction\n\n\n\nBe sure to hurry and bid for a 
 chance to win your favorite silent auction items! This&nbsp\;year includes
  a custom pet portrait\, a meet and greet with international celebrity Eth
 an Almighty\, a chance to shadow KHS’ veterinarians\, a holiday experien
 ce at KHS ‘Willow&nbsp\;Hope Farm\, a free adoption\, 5 days of free Dog
 gie Daycare\, a memorable dinner at Pizza Lupo followed by a winter wonder
 land tour at the Waterfront Botanical Garden\, among many others. Bidding 
 ends Thursday\, December 9 at 8pm.\n\n\n\nDon’t be a Bah-Hum-Pug! Suppor
 t animals in need!\n\n\n\nIf you are the lucky winner\, please pick up you
 r items at our East Campus at 1000 Lyndon Lane in Louisville.\n
END:VEVENT
BEGIN:VTIMEZONE
TZID:America/Kentucky/Louisville
X-LIC-LOCATION:America/Kentucky/Louisville
BEGIN:STANDARD
DTSTART:20211107T010000
TZOFFSETFROM:-0400
TZOFFSETTO:-0500
TZNAME:EST
END:STANDARD
END:VTIMEZONE
END:VCALENDAR