BEGIN:VCALENDAR
VERSION:2.0
PRODID:-//wp-events-plugin.com//6.6.4.4//EN
TZID:America/Kentucky/Louisville
X-WR-TIMEZONE:America/Kentucky/Louisville
BEGIN:VEVENT
UID:466@kyhumane.mediauradev.com
DTSTART;TZID=America/Kentucky/Louisville:20241109T120000
DTEND;TZID=America/Kentucky/Louisville:20241109T150000
DTSTAMP:20241104T185050Z
URL:https://kyhumane.mediauradev.com/events/paws-for-pints-at-pizza-bar/
SUMMARY:Paws for Pints at Pizza Bar
DESCRIPTION:\n\nGIVEBACK ALERT! Join us from 12-3 p.m. next Saturday (11/9)
 \, at Pizza Bar in Downtown Louisville for a paw-some giveback day.  Thei
 r dog-friendly patio will be open (weather permitting) so that you can enj
 oy delicious pizza and cocktails while supporting KHS shelter animals! We 
 can't wait to see you there.
ATTACH;FMTTYPE=image/jpeg:https://kyhumane.mediauradev.com/wp-content/uplo
 ads/2024/11/Paws-for-Pints-2024.png
LOCATION:Pizza Bar\, 445 S. 4th Street\, Louisville\, Kentucky\, 40202\, Un
 ited States
X-APPLE-STRUCTURED-LOCATION;VALUE=URI;X-ADDRESS=445 S. 4th Street\, Louisvi
 lle\, Kentucky\, 40202\, United States;X-APPLE-RADIUS=100;X-TITLE=Pizza Ba
 r:geo:0,0
END:VEVENT
BEGIN:VTIMEZONE
TZID:America/Kentucky/Louisville
X-LIC-LOCATION:America/Kentucky/Louisville
BEGIN:STANDARD
DTSTART:20241103T010000
TZOFFSETFROM:-0400
TZOFFSETTO:-0500
TZNAME:EST
END:STANDARD
END:VTIMEZONE
END:VCALENDAR