BEGIN:VCALENDAR
VERSION:2.0
PRODID:-//wp-events-plugin.com//6.6.4.4//EN
TZID:America/Kentucky/Louisville
X-WR-TIMEZONE:America/Kentucky/Louisville
BEGIN:VEVENT
UID:607@kyhumane.mediauradev.com
DTSTART;TZID=America/Kentucky/Louisville:20251209T160000
DTEND;TZID=America/Kentucky/Louisville:20251209T190000
DTSTAMP:20251111T171709Z
URL:https://kyhumane.mediauradev.com/events/paws-on-the-patio-2/
SUMMARY:Paws on the Patio
DESCRIPTION:\nJoin us at Moonsong in the Tempo Nulu lobby Tuesday\, Decembe
 r 9th from 4PM-7PM for Paws on the Patio. \n\nBring your furry friend to M
 oonsong and receive a complimentary pup cup with your Moonsong purchase. P
 lus\, enjoy weekly cocktail specials!  \n
ATTACH;FMTTYPE=image/jpeg:https://kyhumane.mediauradev.com/wp-content/uplo
 ads/2025/10/Paws-on-the-Patio.jpg
LOCATION:Tempo by Hilton\, 710 East Jefferson Street\, Louisville\, KY\, 40
 202\, United States
X-APPLE-STRUCTURED-LOCATION;VALUE=URI;X-ADDRESS=710 East Jefferson Street\,
  Louisville\, KY\, 40202\, United States;X-APPLE-RADIUS=100;X-TITLE=Tempo 
 by Hilton:geo:0,0
END:VEVENT
BEGIN:VTIMEZONE
TZID:America/Kentucky/Louisville
X-LIC-LOCATION:America/Kentucky/Louisville
BEGIN:STANDARD
DTSTART:20251102T010000
TZOFFSETFROM:-0400
TZOFFSETTO:-0500
TZNAME:EST
END:STANDARD
END:VTIMEZONE
END:VCALENDAR