BEGIN:VCALENDAR
VERSION:2.0
PRODID:-//wp-events-plugin.com//6.6.4.4//EN
TZID:America/Kentucky/Louisville
X-WR-TIMEZONE:America/Kentucky/Louisville
BEGIN:VEVENT
UID:92@kyhumane.mediauradev.com
DTSTART;TZID=America/Kentucky/Louisville:20211216T163000
DTEND;TZID=America/Kentucky/Louisville:20211216T200000
DTSTAMP:20211124T205752Z
URL:https://kyhumane.mediauradev.com/events/pearls-and-puptails-howl-iday-
 party/
SUMMARY:Pearls and Puptails Howl-iday Party
DESCRIPTION:\n\n\n\n\nSpend your holiday shopping in style and give back to
  your community at Royal Jewelers Annual Pearls and Puptails Howl-iday Eve
 nt on December 16 from 4:30-8 pm. A portion of sales proceeds will be dona
 ted to the Kentucky Humane Society. We’ll have KHS animals on-site along
  with specialty cocktails from Tito’s Vodka\, wine\, and food from Harve
 y’s Cheese of Logan Street Market.&nbsp\;\n\n\n\nBrowse gifts in all pri
 ce ranges\, visit with KHS animals\, and participate in an exclusive holid
 ay make-up lesson during the event. Plus\, guests who bring in a much-need
 ed item for the Kentucky Humane Society will be able to select an ornament
  from the Royal Discount Tree that could save them up to 70% of their enti
 re purchase. For a list of wish list items\, visit RoyalFineJewelers.com .
  Be sure to enter our grand prize giveaway at the event or online at Royal
 FineJewelers.com. We’ll draw one lucky winner on December 16th at 7:30pm
  to receive a pair of 14k White Gold Diamond and Garnet Stud Earrings. You
  do not need to be present to win.\n
ATTACH;FMTTYPE=image/jpeg:https://kyhumane.mediauradev.com/wp-content/uplo
 ads/2021/11/pearls-and-puptails-postcard-1.jpg
END:VEVENT
BEGIN:VTIMEZONE
TZID:America/Kentucky/Louisville
X-LIC-LOCATION:America/Kentucky/Louisville
BEGIN:STANDARD
DTSTART:20211107T010000
TZOFFSETFROM:-0400
TZOFFSETTO:-0500
TZNAME:EST
END:STANDARD
END:VTIMEZONE
END:VCALENDAR