BEGIN:VCALENDAR
VERSION:2.0
PRODID:-//wp-events-plugin.com//6.6.4.4//EN
TZID:America/Kentucky/Louisville
X-WR-TIMEZONE:America/Kentucky/Louisville
BEGIN:VEVENT
UID:617@kyhumane.mediauradev.com
DTSTART;TZID=America/Kentucky/Louisville:20251218T163000
DTEND;TZID=America/Kentucky/Louisville:20251218T190000
DTSTAMP:20251202T165432Z
URL:https://kyhumane.mediauradev.com/events/pearls-and-puptails/
SUMMARY:Pearls and Puptails
DESCRIPTION:\n\nSpend your holiday shopping in style and give back to anima
 ls in need at Royal Jewelers’ Annual Pearls and Puptails Howl-iday Event
  on December 18 from 4:30-7 PM!  A portion of sale proceeds will be donate
 d to KHS shelter animals\, and guests will get to enjoy specialty cocktail
 s and have delicious snacks all while checking holiday shopping off of you
 r list! \n\n\n\nGuests who bring in supplies for our shelter pets will hav
 e the opportunity to get a discount on their purchase. So grab a friend an
 d meet us at Louisville’s favorite family neighborhood jeweler. We’ll 
 see you there! \n
ATTACH;FMTTYPE=image/jpeg:https://kyhumane.mediauradev.com/wp-content/uplo
 ads/2025/12/54958512771_127b0b3799_o-scaled.jpg
LOCATION:Royal Jewelers\, 4505 Shelbyville Road #101\, Louisville\, KY\, 40
 207\, United States
X-APPLE-STRUCTURED-LOCATION;VALUE=URI;X-ADDRESS=4505 Shelbyville Road #101\
 , Louisville\, KY\, 40207\, United States;X-APPLE-RADIUS=100;X-TITLE=Royal
  Jewelers:geo:0,0
END:VEVENT
BEGIN:VTIMEZONE
TZID:America/Kentucky/Louisville
X-LIC-LOCATION:America/Kentucky/Louisville
BEGIN:STANDARD
DTSTART:20251102T010000
TZOFFSETFROM:-0400
TZOFFSETTO:-0500
TZNAME:EST
END:STANDARD
END:VTIMEZONE
END:VCALENDAR