BEGIN:VCALENDAR
VERSION:2.0
PRODID:-//wp-events-plugin.com//6.6.4.4//EN
TZID:America/Kentucky/Louisville
X-WR-TIMEZONE:America/Kentucky/Louisville
BEGIN:VEVENT
UID:212@kyhumane.mediauradev.com
DTSTART;TZID=America/Kentucky/Louisville:20221215T163000
DTEND;TZID=America/Kentucky/Louisville:20221215T200000
DTSTAMP:20221114T145650Z
URL:https://kyhumane.mediauradev.com/events/pearls-puptails-2022/
SUMMARY:Pearls & Puptails at Royal Jewelers
DESCRIPTION:\n\n\n\n\n\n\n\n\nPearls and Puptails Howl-iday Shopping EventD
 ecember 15\, 2022 from 4:30-8pmRoyal Jewelers\, 4505 Shelbyville Rd #101\,
  Louisville\, KY 40207Proceeds to benefit Kentucky Humane Society\n\n\n\nS
 pend your holiday shopping in style and give back to your community at Roy
 al Jewelers Annual Pearls and Puptails Howl-iday Event on December 15 from
  4:30-8 pm. A portion of sales proceeds will be donated to the Kentucky Hu
 mane Society.\n\n\n\nWe’ll have adoptable dogs on-site along with specia
 lty cocktails from Tito’s Vodka\, wine\, champagne and munchies.\n\n\n\n
 Browse gifts in all price ranges\, visit with adoptable dogs and puppies\,
  and participate in an exclusive holiday make-up lesson during the event. 
 Plus\, guests who bring in a much-needed item for the Kentucky Humane Soci
 ety will be able to select an ornament from the Royal Discount Tree that c
 ould save them up to 70% of their entire purchase.\n\n\n\nBe sure to enter
  our grand prize giveaway at the event or online at RoyalFineJewelers.com.
  We’ll draw one lucky winner on December 15\, 2022\, at 7:30pm to win a 
 pair of earrings. You do not need to be present to win.\n\n\n\nSo grab a f
 riend and join us at Louisville’s favorite family neighborhood jeweler. 
 We’ll see you there!\n\n\n\n\n\n\n\nOur Wish List\n\n\n\n\n\n\n\nCreatur
 e Comforts\n\n\n\n\nPet beds (clean\, gently used)\n\n\n\nHeating pads (el
 ectric and microwavable) and SnuggleSafe Microwavable Bed Warmers\n\n\n\nP
 aper towel and toilet paper rolls (to make enrichment toys for pets)\n\n\n
 \nDog and cat toys (new or gently used)\n\n\n\n\nCats\n\n\n\n\nCat food (d
 ry and canned)\n\n\n\nPaper food trays for cat feeding time. (Example here
 :&nbsp\;http://tinyurl.com/ltheycg)\n\n\n\nCat litter (clay\, unscented)\n
 \n\n\nUncovered plastic litter boxes\n\n\n\nCat carriers\n\n\n\nCovered ca
 t beds (cat caves/tents)\n\n\n\nCat toys\, including pipe cleaners\, cat w
 ands\, feathers and paper bags\n\n\n\nCat tunnels\n\n\n\nCat nail clippers
 \n\n\n\nScratching posts\n\n\n\nKitten bottles/nipples and KMR (kitten mil
 k replacer) formula\n\n\n\nWild bird seed (for our bird feeder outside the
  cat colonies\, which the cats love to watch!)\n\n\n\nDisposable litter bo
 xes for training room activities\n\n\n\nPlastic rings from milk and juice 
 jugs\n\n\n\nIcalm cats (an auditory program designed to soothe cats)\n\n\n
 \nFeliway spray\, diffusers and refills\n\n\n\n\nDogs\n\n\n\n\nTemporary m
 etal fencing for both large dogs and puppy play pens\n\n\n\nSlip Leads\n\n
 \n\nDog food (canned only)\n\n\n\nDog toys (durable\, non-plush)\, Nylabon
 es and puzzle toys with stuffers such as peanut butter and Cheese Whiz\n\n
 \n\nDog treats (soft only\, please\; no rawhides)\, including Vienna sausa
 ges\, Natural Balance dog food rolls\, meat-flavored baby food\, canned ch
 icken in water\, canned tuna in water and canned squirt cheese\n\n\n\nDog/
 Puppy gates for offices\n\n\n\nSmall brown-paper lunch bags (used for enri
 chment)\n\n\n\nLeather Brothers 6’ Slip Leads\n\n\n\n3-inchx 10-foot pvc
  pipe with 3-inch pvc end caps (used for enrichment)\n\n\n\nMuffin tins (u
 sed for enrichment)\n\n\n\nIcalm dogs (an auditory program used to calm do
 gs)\n\n\n\n\nHorses\n\n\n\n\nTruegrid Pro Lite\n\n\n\nClear Eyes Drop\n\n\
 n\nShapley’s Original M-T-G\n\n\n\nEasyCare Easyboot\n\n\n\nProtege Ridi
 ng Helmet\n\n\n\nHalters\n\n\n\nHoof Pick/brush\n\n\n\nStall Snack Holder\
 n\n\n\nPlastic Buckets\n\n\n\nSnuggit Turnout\n\n\n\n\nShop more at&nbsp\;
 kyhumane.org/whfamazon&nbsp\;\n\n\n\nCleaning Supplies\n\n\n\n\nBleach\n\n
 \n\nLaundry detergent\n\n\n\nDisinfectant (aerosol cans)\n\n\n\nPaper towe
 ls (multi-packs\, if possible)\n\n\n\nSafety glasses (to protect us when w
 orking with chemicals and/or quarantined areas)\n\n\n\nDisposable non-skid
  shoe covers/booties (to protect us when working in quarantined areas\; la
 rge or XL preferred)\n\n\n\nMesh laundry bags\n\n\n\nHand Soap\n\n
ATTACH;FMTTYPE=image/jpeg:https://kyhumane.mediauradev.com/wp-content/uplo
 ads/2022/11/pearls-and-pups-2022-1.png
END:VEVENT
BEGIN:VTIMEZONE
TZID:America/Kentucky/Louisville
X-LIC-LOCATION:America/Kentucky/Louisville
BEGIN:STANDARD
DTSTART:20221106T010000
TZOFFSETFROM:-0400
TZOFFSETTO:-0500
TZNAME:EST
END:STANDARD
END:VTIMEZONE
END:VCALENDAR