BEGIN:VCALENDAR
VERSION:2.0
PRODID:-//wp-events-plugin.com//6.6.4.4//EN
TZID:America/Kentucky/Louisville
X-WR-TIMEZONE:America/Kentucky/Louisville
BEGIN:VEVENT
UID:477@kyhumane.mediauradev.com
DTSTART;TZID=America/Kentucky/Louisville:20241212T163000
DTEND;TZID=America/Kentucky/Louisville:20241212T200000
DTSTAMP:20241126T140337Z
URL:https://kyhumane.mediauradev.com/events/pearls-puptails-howl-iday-even
 t/
SUMMARY:Pearls & Puptails Howl-iday Event
DESCRIPTION:\n\nSpend your holiday shopping in style and give back to your 
 community at Royal Jewelers’ Annual Pearls and Puptails Howl-iday Event 
 on December 12 from 4:30-8 pm. A portion of sales proceeds will be donated
  to the Kentucky Humane Society. Guests can visit with adoptable puppies o
 n-site and enjoy specialty cock-tales and delicious appetizers from RK Blu
 egrass catering.\n\nBrowse gifts in all price ranges and visit with puppie
 s. Guests who bring in a much-needed item for the Kentucky Humane Society 
 to the event will be able to select an ornament from the Royal Discount Tr
 ee that could save them up to 70% of their entire purchase. Wish list item
 s will be accepted the entire month of December! See the Wish List here: h
 ttps://kyhumane.mediauradev.com/ways-to-give/wishlist/\n\nSo grab a friend
  and join us at Louisville’s favorite family neighborhood jeweler. We’
 ll see you there!
ATTACH;FMTTYPE=image/jpeg:https://kyhumane.mediauradev.com/wp-content/uplo
 ads/2024/11/54155724515_64e28ea43c_o-scaled.jpg
LOCATION:Royal Jewelers\, 4505 Shelbyville Road #101\, Louisville\, KY\, 40
 207\, United States
X-APPLE-STRUCTURED-LOCATION;VALUE=URI;X-ADDRESS=4505 Shelbyville Road #101\
 , Louisville\, KY\, 40207\, United States;X-APPLE-RADIUS=100;X-TITLE=Royal
  Jewelers:geo:0,0
END:VEVENT
BEGIN:VTIMEZONE
TZID:America/Kentucky/Louisville
X-LIC-LOCATION:America/Kentucky/Louisville
BEGIN:STANDARD
DTSTART:20241103T010000
TZOFFSETFROM:-0400
TZOFFSETTO:-0500
TZNAME:EST
END:STANDARD
END:VTIMEZONE
END:VCALENDAR