BEGIN:VCALENDAR
VERSION:2.0
PRODID:-//wp-events-plugin.com//6.6.4.4//EN
TZID:America/Kentucky/Louisville
X-WR-TIMEZONE:America/Kentucky/Louisville
BEGIN:VEVENT
UID:419@kyhumane.mediauradev.com
DTSTART;TZID=America/Kentucky/Louisville:20240710T110000
DTEND;TZID=America/Kentucky/Louisville:20240710T123000
DTSTAMP:20240701T142528Z
URL:https://kyhumane.mediauradev.com/events/pet-pals-lunch-and-learn-6/
SUMMARY:Pet Pals Lunch and Learn
DESCRIPTION:\n\nJoin us for a delicious lunch provided by our fur-iends at 
 Salsarita’s Fresh Mexican Grill and an uplifting presentation by Alisa G
 ray\, our President &amp\; CEO. Then get a behind-the-scenes tour of our 
 Sam Swope Pet Treatment &amp\; Lifesaving Center\, where you’ll meet inc
 redible cats\, dogs\, kittens and puppies – and the remarkable team memb
 ers who make our lifesaving work possible! You’ll learn about how KHS i
 s here for Kentucky’s animals and for the people who love them – and h
 ow each of us can make a difference for companion animals. After the hour 
 and a half lunch &amp\; learn and cuddles with the animals\, you’ll leav
 e energized and inspired. Click here to get your tickets.
ATTACH;FMTTYPE=image/jpeg:https://kyhumane.mediauradev.com/wp-content/uplo
 ads/2023/09/Alisa-Winston.jpg
LOCATION:Sam Swope Pet TLC (Main Campus)\, 241 Steedly Dr\, Louisville\, KY
 \, 40214\, United States
X-APPLE-STRUCTURED-LOCATION;VALUE=URI;X-ADDRESS=241 Steedly Dr\, Louisville
 \, KY\, 40214\, United States;X-APPLE-RADIUS=100;X-TITLE=Sam Swope Pet TLC
  (Main Campus):geo:0,0
END:VEVENT
BEGIN:VTIMEZONE
TZID:America/Kentucky/Louisville
X-LIC-LOCATION:America/Kentucky/Louisville
BEGIN:DAYLIGHT
DTSTART:20240310T030000
TZOFFSETFROM:-0500
TZOFFSETTO:-0400
TZNAME:EDT
END:DAYLIGHT
END:VTIMEZONE
END:VCALENDAR