BEGIN:VCALENDAR
VERSION:2.0
PRODID:-//wp-events-plugin.com//6.6.4.4//EN
TZID:America/Kentucky/Louisville
X-WR-TIMEZONE:America/Kentucky/Louisville
BEGIN:VEVENT
UID:273@kyhumane.mediauradev.com
DTSTART;TZID=America/Kentucky/Louisville:20230614T113000
DTEND;TZID=America/Kentucky/Louisville:20230614T123000
DTSTAMP:20230612T195625Z
URL:https://kyhumane.mediauradev.com/events/pet-tales-lunch-learn-4/
SUMMARY:Pet Tales Lunch & Learn
DESCRIPTION:\n\n\n\n\nJoin us for a delicious boxed lunch and uplifting pre
 sentation by Alisa Gray\, our President &amp\; CEO. Then get a behind-the-
 scenes tour of our Sam Swope Pet Treatment &amp\; Lifesaving Center\, wher
 e you'll meet incredible cats\, dogs\, kittens and puppies - and the remar
 kable team members who make our lifesaving work possible! You'll learn abo
 ut how KHS is here for Kentucky's animals and for the people who love them
  - and how each of us can make a difference for companion animals. After t
 he 1 hour lunch &amp\; learn and cuddles with the animals\, you'll leave e
 nergized and inspired.\n\n\n\nClick here to save your spot for the next Pe
 t Tales Lunch &amp\; Learn!\n\n\n\n\n\n\n\n\nPet Tales Tickets\n\n
ATTACH;FMTTYPE=image/jpeg:https://kyhumane.mediauradev.com/wp-content/uplo
 ads/2023/01/alisa-pet-tales-1.jpg
LOCATION:Sam Swope Pet TLC (Main Campus)\, 241 Steedly Dr\, Louisville\, KY
 \, 40214\, United States
X-APPLE-STRUCTURED-LOCATION;VALUE=URI;X-ADDRESS=241 Steedly Dr\, Louisville
 \, KY\, 40214\, United States;X-APPLE-RADIUS=100;X-TITLE=Sam Swope Pet TLC
  (Main Campus):geo:0,0
END:VEVENT
BEGIN:VTIMEZONE
TZID:America/Kentucky/Louisville
X-LIC-LOCATION:America/Kentucky/Louisville
BEGIN:DAYLIGHT
DTSTART:20230312T030000
TZOFFSETFROM:-0500
TZOFFSETTO:-0400
TZNAME:EDT
END:DAYLIGHT
END:VTIMEZONE
END:VCALENDAR