BEGIN:VCALENDAR
VERSION:2.0
PRODID:-//wp-events-plugin.com//6.6.4.4//EN
TZID:America/Kentucky/Louisville
X-WR-TIMEZONE:America/Kentucky/Louisville
BEGIN:VEVENT
UID:315@kyhumane.mediauradev.com
DTSTART;TZID=America/Kentucky/Louisville:20231108T113000
DTEND;TZID=America/Kentucky/Louisville:20231108T123000
DTSTAMP:20230918T164507Z
URL:https://kyhumane.mediauradev.com/events/pet-tales-lunch-learn-8/
SUMMARY:Pet Tales Lunch &amp\; Learn
DESCRIPTION:\nWednesday\, November 8\n\n\n\n\n\n\n\nJoin us for a delicious
  boxed lunch and uplifting presentation by Alisa Gray\, our President &amp
 \; CEO Designate. Then get a behind-the-scenes tour of our Sam Swope Pet T
 reatment &amp\; Lifesaving Center\, where you'll meet incredible cats\, do
 gs\, kittens and puppies - and the remarkable team members who make our li
 fesaving work possible! You'll learn about how KHS is here for Kentucky's 
 animals and for the people who love them - and how each of us can make a d
 ifference for companion animals. After the 1 hour lunch &amp\; learn and c
 uddles with the animals\, you'll leave energized and inspired.\n\n\n\nClic
 k here to save your spot for the next Pet Tales Lunch &amp\; Learn!\n
ATTACH;FMTTYPE=image/jpeg:https://kyhumane.mediauradev.com/wp-content/uplo
 ads/2022/10/AlisaGray.png
LOCATION:Sam Swope Pet TLC (Main Campus)\, 241 Steedly Dr\, Louisville\, KY
 \, 40214\, United States
X-APPLE-STRUCTURED-LOCATION;VALUE=URI;X-ADDRESS=241 Steedly Dr\, Louisville
 \, KY\, 40214\, United States;X-APPLE-RADIUS=100;X-TITLE=Sam Swope Pet TLC
  (Main Campus):geo:0,0
END:VEVENT
BEGIN:VTIMEZONE
TZID:America/Kentucky/Louisville
X-LIC-LOCATION:America/Kentucky/Louisville
BEGIN:STANDARD
DTSTART:20231105T010000
TZOFFSETFROM:-0400
TZOFFSETTO:-0500
TZNAME:EST
END:STANDARD
END:VTIMEZONE
END:VCALENDAR