BEGIN:VCALENDAR
VERSION:2.0
PRODID:-//wp-events-plugin.com//6.6.4.4//EN
TZID:America/Kentucky/Louisville
X-WR-TIMEZONE:America/Kentucky/Louisville
BEGIN:VEVENT
UID:454@kyhumane.mediauradev.com
DTSTART;TZID=America/Kentucky/Louisville:20240928T130000
DTEND;TZID=America/Kentucky/Louisville:20240928T160000
DTSTAMP:20240924T154608Z
URL:https://kyhumane.mediauradev.com/events/pgjs-annual-chili-cook-off/
SUMMARY:PG&J's Annual Chili Cook-Off
DESCRIPTION:Join us Saturday\, September 28th\, at PG&amp\;Js Dog Park Bar 
 for their annual CHILI COOK-OFF benefiting the Kentucky Humane Society! Wi
 th delicious food and great canine AND human company\, it's sure to be a f
 un-filled fall afternoon.\n\n\n\nMore details and chili registration provi
 ded here. \n\n&nbsp\;
ATTACH;FMTTYPE=image/jpeg:https://kyhumane.mediauradev.com/wp-content/uplo
 ads/2024/09/PGJs-Chili-Cook-Off.jpg
LOCATION:PG&J's Dog Park Bar\, 800 Baxter Avenue\, Louisville\, KY\, 40204\
 , United States
X-APPLE-STRUCTURED-LOCATION;VALUE=URI;X-ADDRESS=800 Baxter Avenue\, Louisvi
 lle\, KY\, 40204\, United States;X-APPLE-RADIUS=100;X-TITLE=PG&J's Dog Par
 k Bar:geo:0,0
END:VEVENT
BEGIN:VTIMEZONE
TZID:America/Kentucky/Louisville
X-LIC-LOCATION:America/Kentucky/Louisville
BEGIN:DAYLIGHT
DTSTART:20240310T030000
TZOFFSETFROM:-0500
TZOFFSETTO:-0400
TZNAME:EDT
END:DAYLIGHT
END:VTIMEZONE
END:VCALENDAR