BEGIN:VCALENDAR
VERSION:2.0
PRODID:-//wp-events-plugin.com//6.6.4.4//EN
TZID:America/Kentucky/Louisville
X-WR-TIMEZONE:America/Kentucky/Louisville
BEGIN:VEVENT
UID:103@kyhumane.mediauradev.com
DTSTART;TZID=America/Kentucky/Louisville:20220122T130000
DTEND;TZID=America/Kentucky/Louisville:20220122T170000
DTSTAMP:20220119T202910Z
URL:https://kyhumane.mediauradev.com/events/pgjs-furst-year-birthday-bash/
SUMMARY:PG&J's FURst Year Birthday Bash!
DESCRIPTION:Come celebrate PG&Js Dog Bar's FURst Birthday Bash and enjoy de
 licious food\, music\, raffles and plenty of animal friends! 
ATTACH;FMTTYPE=image/jpeg:https://kyhumane.mediauradev.com/wp-content/uplo
 ads/2022/01/271927768_1060656147841604_7051367816022262187_n.jpg
END:VEVENT
BEGIN:VTIMEZONE
TZID:America/Kentucky/Louisville
X-LIC-LOCATION:America/Kentucky/Louisville
BEGIN:STANDARD
DTSTART:20211107T010000
TZOFFSETFROM:-0400
TZOFFSETTO:-0500
TZNAME:EST
END:STANDARD
END:VTIMEZONE
END:VCALENDAR