BEGIN:VCALENDAR
VERSION:2.0
PRODID:-//wp-events-plugin.com//6.6.4.4//EN
TZID:America/Kentucky/Louisville
X-WR-TIMEZONE:America/Kentucky/Louisville
BEGIN:VEVENT
UID:110@kyhumane.mediauradev.com
DTSTART;TZID=America/Kentucky/Louisville:20220213T130000
DTEND;TZID=America/Kentucky/Louisville:20220213T170000
DTSTAMP:20220208T172242Z
URL:https://kyhumane.mediauradev.com/events/pgjs-puppy-bowl-2022/
SUMMARY:PG&J's PUPPY BOWL 2022
DESCRIPTION:Join the Kentucky Humane Society on Sunday\, February 13 from 1
 -5 p.m. at PG&Js Dog Bar\, located at 800 Baxter Avenue\, for the PG&J's P
 UPPY BOWL 2022!
ATTACH;FMTTYPE=image/jpeg:https://kyhumane.mediauradev.com/wp-content/uplo
 ads/2022/02/271739770_1058935724680313_5879580924493072668_n-1.jpg
END:VEVENT
BEGIN:VTIMEZONE
TZID:America/Kentucky/Louisville
X-LIC-LOCATION:America/Kentucky/Louisville
BEGIN:STANDARD
DTSTART:20211107T010000
TZOFFSETFROM:-0400
TZOFFSETTO:-0500
TZNAME:EST
END:STANDARD
END:VTIMEZONE
END:VCALENDAR