BEGIN:VCALENDAR
VERSION:2.0
PRODID:-//wp-events-plugin.com//6.6.4.4//EN
TZID:America/Kentucky/Louisville
X-WR-TIMEZONE:America/Kentucky/Louisville
BEGIN:VEVENT
UID:138@kyhumane.mediauradev.com
DTSTART;TZID=America/Kentucky/Louisville:20220430T110000
DTEND;TZID=America/Kentucky/Louisville:20220430T150000
DTSTAMP:20220328T180707Z
URL:https://kyhumane.mediauradev.com/events/picnic-with-the-ponies/
SUMMARY:Picnic with the Ponies!
DESCRIPTION:Join the Kentucky Humane Society on Saturday\, April 30 from 11
  a.m. to 3 p.m. for a Picnic with the Ponies at our Willow Hope Farm in Si
 mpsonville\, KY.
ATTACH;FMTTYPE=image/jpeg:https://kyhumane.mediauradev.com/wp-content/uplo
 ads/2022/03/picnicponies.png
END:VEVENT
BEGIN:VTIMEZONE
TZID:America/Kentucky/Louisville
X-LIC-LOCATION:America/Kentucky/Louisville
BEGIN:DAYLIGHT
DTSTART:20220313T030000
TZOFFSETFROM:-0500
TZOFFSETTO:-0400
TZNAME:EDT
END:DAYLIGHT
END:VTIMEZONE
END:VCALENDAR