BEGIN:VCALENDAR
VERSION:2.0
PRODID:-//wp-events-plugin.com//6.6.4.4//EN
TZID:America/Kentucky/Louisville
X-WR-TIMEZONE:America/Kentucky/Louisville
BEGIN:VEVENT
UID:615@kyhumane.mediauradev.com
DTSTART;TZID=America/Kentucky/Louisville:20251206T120000
DTEND;TZID=America/Kentucky/Louisville:20251207T160000
DTSTAMP:20251118T193638Z
URL:https://kyhumane.mediauradev.com/events/picture-your-pet-with-santa-2/
SUMMARY:Picture Your Pet With Santa
DESCRIPTION:\nPicture Your Pet With Santa returns for ONE WEEKEND ONLY on D
 ecember 6 &amp\; 7 at the Preston Highway Feeders Pet Supply stores! Join 
 us from 12-4 p.m. on Saturday OR Sunday\, and get adorable photos of your 
 furry friends with Santa Claus while supporting KHS shelter animals. You'l
 l receive a flash drive with all of your pictures\, so holiday shopping an
 d sharing will be a breeze.\n\nAnd don't miss out on the Feeders Pet Suppl
 y pet photo contest from December 6-14. All Picture Your Pet participants 
 are welcome to enter\, and the winning submission will win a $300 Feeders 
 Pet Supply gift card for themselves AND the partnering rescue their photos
  supported! Keep an eye on the @FeedersPetSupply Facebook page for your ch
 ance to win.
ATTACH;FMTTYPE=image/jpeg:https://kyhumane.mediauradev.com/wp-content/uplo
 ads/2025/11/Picture-Your-Pet.jpg
LOCATION:Feeders Pet Supply - Middletown\, 12949 Shelbyville Road\, Louisvi
 lle\, KY\, 40243\, United States
X-APPLE-STRUCTURED-LOCATION;VALUE=URI;X-ADDRESS=12949 Shelbyville Road\, Lo
 uisville\, KY\, 40243\, United States;X-APPLE-RADIUS=100;X-TITLE=Feeders P
 et Supply - Middletown:geo:0,0
END:VEVENT
BEGIN:VTIMEZONE
TZID:America/Kentucky/Louisville
X-LIC-LOCATION:America/Kentucky/Louisville
BEGIN:STANDARD
DTSTART:20251102T010000
TZOFFSETFROM:-0400
TZOFFSETTO:-0500
TZNAME:EST
END:STANDARD
END:VTIMEZONE
END:VCALENDAR