BEGIN:VCALENDAR
VERSION:2.0
PRODID:-//wp-events-plugin.com//6.6.4.4//EN
TZID:America/Kentucky/Louisville
X-WR-TIMEZONE:America/Kentucky/Louisville
BEGIN:VEVENT
UID:470@kyhumane.mediauradev.com
DTSTART;TZID=America/Kentucky/Louisville:20241207T120000
DTEND;TZID=America/Kentucky/Louisville:20241208T160000
DTSTAMP:20241204T184344Z
URL:https://kyhumane.mediauradev.com/events/picture-your-pet-with-santa/
SUMMARY:Picture Your Pet With Santa
DESCRIPTION:\n\nPicture your pet with Santa returns for one weekend only
  on December 7 and 8. Join us from 12-4 p.m. at the Middletown and Presto
 n Highway Feeders Pet Supply locations\, and get adorable photos of your
  pets with Santa Claus while supporting KHS shelter animals. You'll recei
 ve a flash drive with all of your photos\, so holiday shopping and sharing
  will be a breeze. We can't wait to see you there! Click here to learn mor
 e.\n\nAnd don't miss out on the Feeders Pet Supply pet photo contest from 
 December 7-9 with the winner being selected on Tuesday\, 12/10. All Pictur
 e Your Pet participants are welcome to enter\, and the winning submission 
 will win a $250 Feeders Pet Supply gift card for themselves AND the partne
 ring rescue their photos supported! Keep an eye on the @FeedersPetSupply F
 acebook page for your chance to win.
ATTACH;FMTTYPE=image/jpeg:https://kyhumane.mediauradev.com/wp-content/uplo
 ads/2024/11/52551658619_ce5b701697_o-scaled.jpg
LOCATION:Feeders Pet Supply - Middletown\, 12949 Shelbyville Road\, Louisvi
 lle\, KY\, 40243\, United States
X-APPLE-STRUCTURED-LOCATION;VALUE=URI;X-ADDRESS=12949 Shelbyville Road\, Lo
 uisville\, KY\, 40243\, United States;X-APPLE-RADIUS=100;X-TITLE=Feeders P
 et Supply - Middletown:geo:0,0
END:VEVENT
BEGIN:VTIMEZONE
TZID:America/Kentucky/Louisville
X-LIC-LOCATION:America/Kentucky/Louisville
BEGIN:STANDARD
DTSTART:20241103T010000
TZOFFSETFROM:-0400
TZOFFSETTO:-0500
TZNAME:EST
END:STANDARD
END:VTIMEZONE
END:VCALENDAR