BEGIN:VCALENDAR
VERSION:2.0
PRODID:-//wp-events-plugin.com//6.6.4.4//EN
TZID:America/Kentucky/Louisville
X-WR-TIMEZONE:America/Kentucky/Louisville
BEGIN:VEVENT
UID:216@kyhumane.mediauradev.com
DTSTART;TZID=America/Kentucky/Louisville:20231202T120000
DTEND;TZID=America/Kentucky/Louisville:20231203T160000
DTSTAMP:20231120T161623Z
URL:https://kyhumane.mediauradev.com/events/picture-your-pets-with-santa/
SUMMARY:Picture Your Pets with Santa
DESCRIPTION:\n\n\n\n\nSanta Claus and his helpers are again taking time out
  of their busy schedules to help local homeless animals. The annual Pictur
 e Your Pets with Santa returns to select Feeders Pet Supply stores for one
  weekend only – Saturday and Sunday\, December 2-3\, from 12-4 p.m. \n\n
 \n\nKentucky Humane Society (KHS) volunteers will be at the Preston and Mi
 ddletown Feeders Pet Supply stores\, with proceeds from these two location
 s benefiting KHS. \n\n\n\nThe first weekend in December\, families can get
  holiday portraits and help local homeless animals at the same time. For a
  donation of $25 or more\, families will take home a flash drive with thei
 r holiday photos that day. Due to increased costs\, the nonprofit organiza
 tions are not printing photos or photo gifts like they have in the past. I
 nstead\, families can use the flash drives to order photos and gifts of th
 eir choice from their favorite local or online vendors.\n\n\n\n\n
ATTACH;FMTTYPE=image/jpeg:https://kyhumane.mediauradev.com/wp-content/uplo
 ads/2022/11/PYP5-scaled.jpg
END:VEVENT
BEGIN:VTIMEZONE
TZID:America/Kentucky/Louisville
X-LIC-LOCATION:America/Kentucky/Louisville
BEGIN:STANDARD
DTSTART:20231105T010000
TZOFFSETFROM:-0400
TZOFFSETTO:-0500
TZNAME:EST
END:STANDARD
END:VTIMEZONE
END:VCALENDAR