BEGIN:VCALENDAR
VERSION:2.0
PRODID:-//wp-events-plugin.com//6.6.4.4//EN
TZID:America/Kentucky/Louisville
X-WR-TIMEZONE:America/Kentucky/Louisville
BEGIN:VEVENT
UID:630@kyhumane.mediauradev.com
DTSTART;TZID=America/Kentucky/Louisville:20260131T110000
DTEND;TZID=America/Kentucky/Louisville:20260131T130000
DTSTAMP:20260109T143328Z
URL:https://kyhumane.mediauradev.com/events/pilates-for-paws-at-the-brown-
 hotel/
SUMMARY:Pilates for Paws at The Brown Hotel
DESCRIPTION:\n\nThe Brown Hotel is hosting Pilates for Paws on January 31 a
 t 11 a.m. in its iconic Crystal Ballroom\, inviting the community to stret
 ch\, strengthen\, and reset in one of Louisville’s most beautiful histor
 ic spaces. Would you be interested in sharing with your audience?\n\nThis 
 all-levels Pilates class supports an important cause — 100% of ticket pr
 oceeds benefit the Kentucky Humane Society\, helping care for animals in n
 eed across our community.\n\nTickets will be sold at the door\, making it 
 an easy\, accessible way to give back while focusing on health and wellnes
 s.\n\nGuests looking to turn the experience into a weekend getaway can use
  code PKGPFP to book a discounted stay at The Brown Hotel\, which includes
  breakfast for two.
ATTACH;FMTTYPE=image/jpeg:https://kyhumane.mediauradev.com/wp-content/uplo
 ads/2026/01/354767_1767019629021.jpg
LOCATION:The Brown Hotel\,  335 W Broadway\, Louisville\, Kentucky\, 40202\
 , United States
X-APPLE-STRUCTURED-LOCATION;VALUE=URI;X-ADDRESS= 335 W Broadway\, Louisvill
 e\, Kentucky\, 40202\, United States;X-APPLE-RADIUS=100;X-TITLE=The Brown 
 Hotel:geo:0,0
END:VEVENT
BEGIN:VTIMEZONE
TZID:America/Kentucky/Louisville
X-LIC-LOCATION:America/Kentucky/Louisville
BEGIN:STANDARD
DTSTART:20251102T010000
TZOFFSETFROM:-0400
TZOFFSETTO:-0500
TZNAME:EST
END:STANDARD
END:VTIMEZONE
END:VCALENDAR