BEGIN:VCALENDAR
VERSION:2.0
PRODID:-//wp-events-plugin.com//6.6.4.4//EN
TZID:America/Kentucky/Louisville
X-WR-TIMEZONE:America/Kentucky/Louisville
BEGIN:VEVENT
UID:529@kyhumane.mediauradev.com
DTSTART;TZID=America/Kentucky/Louisville:20250517T111500
DTEND;TZID=America/Kentucky/Louisville:20250517T123000
DTSTAMP:20250508T160433Z
URL:https://kyhumane.mediauradev.com/events/pilates-puppies/
SUMMARY:Pilates & Puppies
DESCRIPTION:\n\n\n\n\n\n\n\nCore Pilates And Yoga Studio is hosting a PUPS 
 &amp\; PILATES class on Saturday\, May 17 at 11:15 a.m.  Join Instructor 
 Lindsey for this beginner-friendly\, mat-based class complete with adorabl
 e\, adoptable KHS puppies. There's nothing more motivating than a puppy ki
 ss\, right?\n\n\n\nVisit trypilates.com and click "book now" to save your 
 spot!\n\n\n
ATTACH;FMTTYPE=image/jpeg:https://kyhumane.mediauradev.com/wp-content/uplo
 ads/2025/05/pups-and-pilates.jpg
LOCATION:Core Pilates & Yoga Studio\, 9506 Norton Commons Blvd\, Louisville
 \, Kentucky\, United States
X-APPLE-STRUCTURED-LOCATION;VALUE=URI;X-ADDRESS=9506 Norton Commons Blvd\, 
 Louisville\, Kentucky\, United States;X-APPLE-RADIUS=100;X-TITLE=Core Pila
 tes & Yoga Studio:geo:0,0
END:VEVENT
BEGIN:VTIMEZONE
TZID:America/Kentucky/Louisville
X-LIC-LOCATION:America/Kentucky/Louisville
BEGIN:DAYLIGHT
DTSTART:20250309T030000
TZOFFSETFROM:-0500
TZOFFSETTO:-0400
TZNAME:EDT
END:DAYLIGHT
END:VTIMEZONE
END:VCALENDAR