BEGIN:VCALENDAR
VERSION:2.0
PRODID:-//wp-events-plugin.com//6.6.4.4//EN
TZID:America/Kentucky/Louisville
X-WR-TIMEZONE:America/Kentucky/Louisville
BEGIN:VEVENT
UID:143@kyhumane.mediauradev.com
DTSTART;TZID=America/Kentucky/Louisville:20220430T140000
DTEND;TZID=America/Kentucky/Louisville:20220430T170000
DTSTAMP:20220408T135116Z
URL:https://kyhumane.mediauradev.com/events/pints-pours-puppies/
SUMMARY:PINTS\, POURS & PUPPIES!
DESCRIPTION:Join us on Saturday\, April 30 from 2-5 p.m. at Germantown Soci
 al\, located at 1318 McHenry street\, for Pints\, Pours & Puppies! 
ATTACH;FMTTYPE=image/jpeg:https://kyhumane.mediauradev.com/wp-content/uplo
 ads/2022/04/277980063_285131017097469_3200809196507998065_n-1.jpg
END:VEVENT
BEGIN:VTIMEZONE
TZID:America/Kentucky/Louisville
X-LIC-LOCATION:America/Kentucky/Louisville
BEGIN:DAYLIGHT
DTSTART:20220313T030000
TZOFFSETFROM:-0500
TZOFFSETTO:-0400
TZNAME:EDT
END:DAYLIGHT
END:VTIMEZONE
END:VCALENDAR