BEGIN:VCALENDAR
VERSION:2.0
PRODID:-//wp-events-plugin.com//6.6.4.4//EN
TZID:America/Kentucky/Louisville
X-WR-TIMEZONE:America/Kentucky/Louisville
BEGIN:VEVENT
UID:145@kyhumane.mediauradev.com
DTSTART;TZID=America/Kentucky/Louisville:20220416T120000
DTEND;TZID=America/Kentucky/Louisville:20220416T160000
DTSTAMP:20220414T132811Z
URL:https://kyhumane.mediauradev.com/events/plants-prosecco/
SUMMARY:Plants & Prosecco!
DESCRIPTION:Treat yourself! Join us on Saturday\, April 16 from 12 p.m. to 
 4 p.m. for the Plants & Prosecco event. 
ATTACH;FMTTYPE=image/jpeg:https://kyhumane.mediauradev.com/wp-content/uplo
 ads/2022/04/278448136_4711887018922875_3940995558527758722_n.jpg
END:VEVENT
BEGIN:VTIMEZONE
TZID:America/Kentucky/Louisville
X-LIC-LOCATION:America/Kentucky/Louisville
BEGIN:DAYLIGHT
DTSTART:20220313T030000
TZOFFSETFROM:-0500
TZOFFSETTO:-0400
TZNAME:EDT
END:DAYLIGHT
END:VTIMEZONE
END:VCALENDAR