BEGIN:VCALENDAR
VERSION:2.0
PRODID:-//wp-events-plugin.com//6.6.4.4//EN
TZID:America/Kentucky/Louisville
X-WR-TIMEZONE:America/Kentucky/Louisville
BEGIN:VEVENT
UID:443@kyhumane.mediauradev.com
DTSTART;TZID=America/Kentucky/Louisville:20240914T110000
DTEND;TZID=America/Kentucky/Louisville:20240914T130000
DTSTAMP:20240906T121559Z
URL:https://kyhumane.mediauradev.com/events/playgroup-with-shelter-pups/
SUMMARY:Playgroup with Shelter Pups
DESCRIPTION:\n\n\n\nHave you been searching for four paws to add to your pa
 ck? Join us on Saturday\, September 14th at 11 a.m. at our Sam Swope Pet T
 LC (Main Campus) for another paw-some PLAYGROUP with our shelter pups!\n\n
 \nYou'll get to see all of our dog-social\, adoptable dogs in action as th
 ey romp and roll with their besties. With canines of all shapes\, sizes an
 d play-styles searching for forever homes\, you're sure to find the perfec
 t addition to your family at KHS.\n\n\nView adoptable dogs here.\n\n\n*PLE
 ASE NOTE: Playgroups will feature adoptable shelter dogs in hopes of findi
 ng their furever homes. If you are interested in setting up a meet-and-gre
 et with an adoptable pup and your resident pets after the event\, our adop
 tion counselors will be happy to assist!\n
ATTACH;FMTTYPE=image/jpeg:https://kyhumane.mediauradev.com/wp-content/uplo
 ads/2024/09/438741523_979383133552341_4532381138519406549_n-scaled.jpg
LOCATION:Sam Swope Pet TLC (Main Campus)\, 241 Steedly Dr\, Louisville\, KY
 \, 40214\, United States
X-APPLE-STRUCTURED-LOCATION;VALUE=URI;X-ADDRESS=241 Steedly Dr\, Louisville
 \, KY\, 40214\, United States;X-APPLE-RADIUS=100;X-TITLE=Sam Swope Pet TLC
  (Main Campus):geo:0,0
END:VEVENT
BEGIN:VTIMEZONE
TZID:America/Kentucky/Louisville
X-LIC-LOCATION:America/Kentucky/Louisville
BEGIN:DAYLIGHT
DTSTART:20240310T030000
TZOFFSETFROM:-0500
TZOFFSETTO:-0400
TZNAME:EDT
END:DAYLIGHT
END:VTIMEZONE
END:VCALENDAR