BEGIN:VCALENDAR
VERSION:2.0
PRODID:-//wp-events-plugin.com//6.6.4.4//EN
TZID:America/Kentucky/Louisville
X-WR-TIMEZONE:America/Kentucky/Louisville
BEGIN:VEVENT
UID:460@kyhumane.mediauradev.com
DTSTART;TZID=America/Kentucky/Louisville:20241012T110000
DTEND;TZID=America/Kentucky/Louisville:20241012T130000
DTSTAMP:20241001T154321Z
URL:https://kyhumane.mediauradev.com/events/playgroup/
SUMMARY:Playgroup
DESCRIPTION:\n\nHave you been searching for four paws to add to your pack? 
 Join us on Saturday\, October 12th at 11 a.m. at our Sam Swope Pet TLC (Ma
 in Campus) for another paw-some PLAYGROUP with our shelter pups!\n\nYou’
 ll get to see all of our dog-social\, adoptable dogs in action as they rom
 p and roll with their besties. With canines of all shapes\, sizes and play
 -styles searching for forever homes\, you’re sure to find the perfect ad
 dition to your family at KHS.\n\nView adoptable dogs here.\n\n*PLEASE NOT
 E: Playgroups will feature adoptable shelter dogs in hopes of finding thei
 r furever homes. If you are interested in setting up a meet-and-greet with
  an adoptable pup and your resident pets after the event\, our adoption co
 unselors will be happy to assist!
LOCATION:Sam Swope Pet TLC (Main Campus)\, 241 Steedly Dr\, Louisville\, KY
 \, 40214\, United States
X-APPLE-STRUCTURED-LOCATION;VALUE=URI;X-ADDRESS=241 Steedly Dr\, Louisville
 \, KY\, 40214\, United States;X-APPLE-RADIUS=100;X-TITLE=Sam Swope Pet TLC
  (Main Campus):geo:0,0
END:VEVENT
BEGIN:VTIMEZONE
TZID:America/Kentucky/Louisville
X-LIC-LOCATION:America/Kentucky/Louisville
BEGIN:DAYLIGHT
DTSTART:20240310T030000
TZOFFSETFROM:-0500
TZOFFSETTO:-0400
TZNAME:EDT
END:DAYLIGHT
END:VTIMEZONE
END:VCALENDAR