BEGIN:VCALENDAR
VERSION:2.0
PRODID:-//wp-events-plugin.com//6.6.4.4//EN
TZID:America/Kentucky/Louisville
X-WR-TIMEZONE:America/Kentucky/Louisville
BEGIN:VEVENT
UID:37@kyhumane.mediauradev.com
DTSTART:20210707T191500Z
DTEND:20210811T201500Z
DTSTAMP:20220617T143411Z
URL:https://kyhumane.mediauradev.com/events/positively-puppies-8-15-weeks-
 instructor-sue-cost-90-00/
SUMMARY:Positively Puppies\, pups 8-15 weeks. Instructor: Sue. Length: 6 we
 eks. Cost $90.00
DESCRIPTION:Our in-person group class for puppies age 8-15 weeks old and th
 eir handlers to learn the basics in socialization and early foundation ski
 lls to start your puppy off right. 
ATTACH;FMTTYPE=image/jpeg:https://kyhumane.mediauradev.com/wp-content/uplo
 ads/2021/05/fc35a228883271a2bfbfa7f82689a346.jpg.jpg
CATEGORIES:Behavior Training,Positively Puppies
LOCATION:Kentucky Humane Society East Campus\, 1000 Lyndon Lane\, Louisvill
 e\, KY \, 40222\, United States
X-APPLE-STRUCTURED-LOCATION;VALUE=URI;X-ADDRESS=1000 Lyndon Lane\, Louisvil
 le\, KY \, 40222\, United States;X-APPLE-RADIUS=100;X-TITLE=Kentucky Human
 e Society East Campus:geo:0,0
END:VEVENT
END:VCALENDAR